BEGIN:VCALENDAR
VERSION:2.0
PRODID:-//Silicon Valley Youth Bridge - ECPv6.15.20//NONSGML v1.0//EN
CALSCALE:GREGORIAN
METHOD:PUBLISH
X-WR-CALNAME:Silicon Valley Youth Bridge
X-ORIGINAL-URL:https://siliconvalleyyouthbridge.org
X-WR-CALDESC:Events for Silicon Valley Youth Bridge
REFRESH-INTERVAL;VALUE=DURATION:PT1H
X-Robots-Tag:noindex
X-PUBLISHED-TTL:PT1H
BEGIN:VTIMEZONE
TZID:America/Los_Angeles
BEGIN:DAYLIGHT
TZOFFSETFROM:-0800
TZOFFSETTO:-0700
TZNAME:PDT
DTSTART:20220313T100000
END:DAYLIGHT
BEGIN:STANDARD
TZOFFSETFROM:-0700
TZOFFSETTO:-0800
TZNAME:PST
DTSTART:20221106T090000
END:STANDARD
BEGIN:DAYLIGHT
TZOFFSETFROM:-0800
TZOFFSETTO:-0700
TZNAME:PDT
DTSTART:20230312T100000
END:DAYLIGHT
BEGIN:STANDARD
TZOFFSETFROM:-0700
TZOFFSETTO:-0800
TZNAME:PST
DTSTART:20231105T090000
END:STANDARD
BEGIN:DAYLIGHT
TZOFFSETFROM:-0800
TZOFFSETTO:-0700
TZNAME:PDT
DTSTART:20240310T100000
END:DAYLIGHT
BEGIN:STANDARD
TZOFFSETFROM:-0700
TZOFFSETTO:-0800
TZNAME:PST
DTSTART:20241103T090000
END:STANDARD
END:VTIMEZONE
BEGIN:VEVENT
DTSTART;TZID=America/Los_Angeles:20231223T150000
DTEND;TZID=America/Los_Angeles:20231223T180000
DTSTAMP:20260425T071313
CREATED:20230924T230831Z
LAST-MODIFIED:20231216T181844Z
UID:10000339-1703343600-1703354400@siliconvalleyyouthbridge.org
SUMMARY:Holiday Pizza Party / Individual Game
DESCRIPTION:There will be an individual game with prizes\, a new Life Master celebration\, and mentors available to review hands. If you don’t feel like playing bridge\, you can just come to hang out too! There will be a $5 entry fee which includes pizza\, snacks\, desserts\, and drinks. \n\n\n\nAlso\, feel free to invite anyone else you’d like! Any level of bridge experience welcome 🎉 \n\n\n\nMichael Xu aka “Big Mike” will be hosting the introductions\, as usual 👏 \n\n\n\n>>> Please RSVP here. <<< \n\n\n\nPalo Alto Bridge Center link
URL:https://siliconvalleyyouthbridge.org/event/holiday-party/
CATEGORIES:Pizza Party
ATTACH;FMTTYPE=image/jpeg:https://siliconvalleyyouthbridge.org/wp-content/uploads/2023/09/CALENDAR-holiday-pizza-party-stock-image.jpg
END:VEVENT
END:VCALENDAR