BEGIN:VCALENDAR
VERSION:2.0
PRODID:-//Silicon Valley Youth Bridge - ECPv6.15.20//NONSGML v1.0//EN
CALSCALE:GREGORIAN
METHOD:PUBLISH
X-ORIGINAL-URL:https://siliconvalleyyouthbridge.org
X-WR-CALDESC:Events for Silicon Valley Youth Bridge
REFRESH-INTERVAL;VALUE=DURATION:PT1H
X-Robots-Tag:noindex
X-PUBLISHED-TTL:PT1H
BEGIN:VTIMEZONE
TZID:America/Los_Angeles
BEGIN:DAYLIGHT
TZOFFSETFROM:-0800
TZOFFSETTO:-0700
TZNAME:PDT
DTSTART:20220313T100000
END:DAYLIGHT
BEGIN:STANDARD
TZOFFSETFROM:-0700
TZOFFSETTO:-0800
TZNAME:PST
DTSTART:20221106T090000
END:STANDARD
BEGIN:DAYLIGHT
TZOFFSETFROM:-0800
TZOFFSETTO:-0700
TZNAME:PDT
DTSTART:20230312T100000
END:DAYLIGHT
BEGIN:STANDARD
TZOFFSETFROM:-0700
TZOFFSETTO:-0800
TZNAME:PST
DTSTART:20231105T090000
END:STANDARD
BEGIN:DAYLIGHT
TZOFFSETFROM:-0800
TZOFFSETTO:-0700
TZNAME:PDT
DTSTART:20240310T100000
END:DAYLIGHT
BEGIN:STANDARD
TZOFFSETFROM:-0700
TZOFFSETTO:-0800
TZNAME:PST
DTSTART:20241103T090000
END:STANDARD
END:VTIMEZONE
BEGIN:VEVENT
DTSTART;TZID=America/Los_Angeles:20231226T130000
DTEND;TZID=America/Los_Angeles:20231229T170000
DTSTAMP:20260425T071305
CREATED:20230924T233607Z
LAST-MODIFIED:20230926T204907Z
UID:10000340-1703595600-1703869200@siliconvalleyyouthbridge.org
SUMMARY:Winter Camp
DESCRIPTION:Winter Camp is great for new players and also those with some bridge experience. Beginners learn enough bridge to compete in their first tournament at the end of the week. Those with experience add to their skills through instruction from world class youth and adult teachers. \n\n\n\nInformation and Registration
URL:https://siliconvalleyyouthbridge.org/event/winter-break-camp/
ATTACH;FMTTYPE=image/jpeg:https://siliconvalleyyouthbridge.org/wp-content/uploads/2023/09/CALENDAR-winter-camp-stock-image.jpg
END:VEVENT
BEGIN:VEVENT
DTSTART;TZID=America/Los_Angeles:20231229T180000
DTEND;TZID=America/Los_Angeles:20231229T203000
DTSTAMP:20260425T071305
CREATED:20230924T225816Z
LAST-MODIFIED:20240708T081123Z
UID:10000348-1703872800-1703881800@siliconvalleyyouthbridge.org
SUMMARY:Casual Friday
DESCRIPTION:Join us every Friday for pizza\, snacks\, and some casual bridge! \n\n\n\nInformation and Signup \n\n\n\nPalo Alto Bridge Center link
URL:https://siliconvalleyyouthbridge.org/event/casual-friday/2023-12-29/
CATEGORIES:Casual Friday
ATTACH;FMTTYPE=image/jpeg:https://siliconvalleyyouthbridge.org/wp-content/uploads/Pages/casualfriday2.jpg
END:VEVENT
END:VCALENDAR