BEGIN:VCALENDAR
VERSION:2.0
PRODID:-//Silicon Valley Youth Bridge - ECPv6.15.20//NONSGML v1.0//EN
CALSCALE:GREGORIAN
METHOD:PUBLISH
X-ORIGINAL-URL:https://siliconvalleyyouthbridge.org
X-WR-CALDESC:Events for Silicon Valley Youth Bridge
REFRESH-INTERVAL;VALUE=DURATION:PT1H
X-Robots-Tag:noindex
X-PUBLISHED-TTL:PT1H
BEGIN:VTIMEZONE
TZID:America/Los_Angeles
BEGIN:DAYLIGHT
TZOFFSETFROM:-0800
TZOFFSETTO:-0700
TZNAME:PDT
DTSTART:20230312T100000
END:DAYLIGHT
BEGIN:STANDARD
TZOFFSETFROM:-0700
TZOFFSETTO:-0800
TZNAME:PST
DTSTART:20231105T090000
END:STANDARD
BEGIN:DAYLIGHT
TZOFFSETFROM:-0800
TZOFFSETTO:-0700
TZNAME:PDT
DTSTART:20240310T100000
END:DAYLIGHT
BEGIN:STANDARD
TZOFFSETFROM:-0700
TZOFFSETTO:-0800
TZNAME:PST
DTSTART:20241103T090000
END:STANDARD
BEGIN:DAYLIGHT
TZOFFSETFROM:-0800
TZOFFSETTO:-0700
TZNAME:PDT
DTSTART:20250309T100000
END:DAYLIGHT
BEGIN:STANDARD
TZOFFSETFROM:-0700
TZOFFSETTO:-0800
TZNAME:PST
DTSTART:20251102T090000
END:STANDARD
END:VTIMEZONE
BEGIN:VEVENT
DTSTART;TZID=America/Los_Angeles:20240210T110000
DTEND;TZID=America/Los_Angeles:20240210T150000
DTSTAMP:20260425T053910
CREATED:20240121T051453Z
LAST-MODIFIED:20250329T000334Z
UID:10000398-1707562800-1707577200@siliconvalleyyouthbridge.org
SUMMARY:Pizza Party Tournament
DESCRIPTION:“Lunar New Year” Duplicate Game with Beginner and Open Sections\, with pizza\, prizes\, & ACBL masterpoints \n\n\n\nRead more about our Pizza Party Tournaments
URL:https://siliconvalleyyouthbridge.org/event/pizza-party-tournaments/
CATEGORIES:Pizza Party
END:VEVENT
END:VCALENDAR