BEGIN:VCALENDAR
VERSION:2.0
PRODID:-//Silicon Valley Youth Bridge - ECPv6.15.20//NONSGML v1.0//EN
CALSCALE:GREGORIAN
METHOD:PUBLISH
X-WR-CALNAME:Silicon Valley Youth Bridge
X-ORIGINAL-URL:https://siliconvalleyyouthbridge.org
X-WR-CALDESC:Events for Silicon Valley Youth Bridge
REFRESH-INTERVAL;VALUE=DURATION:PT1H
X-Robots-Tag:noindex
X-PUBLISHED-TTL:PT1H
BEGIN:VTIMEZONE
TZID:America/Los_Angeles
BEGIN:DAYLIGHT
TZOFFSETFROM:-0800
TZOFFSETTO:-0700
TZNAME:PDT
DTSTART:20240310T100000
END:DAYLIGHT
BEGIN:STANDARD
TZOFFSETFROM:-0700
TZOFFSETTO:-0800
TZNAME:PST
DTSTART:20241103T090000
END:STANDARD
BEGIN:DAYLIGHT
TZOFFSETFROM:-0800
TZOFFSETTO:-0700
TZNAME:PDT
DTSTART:20250309T100000
END:DAYLIGHT
BEGIN:STANDARD
TZOFFSETFROM:-0700
TZOFFSETTO:-0800
TZNAME:PST
DTSTART:20251102T090000
END:STANDARD
BEGIN:DAYLIGHT
TZOFFSETFROM:-0800
TZOFFSETTO:-0700
TZNAME:PDT
DTSTART:20260308T100000
END:DAYLIGHT
BEGIN:STANDARD
TZOFFSETFROM:-0700
TZOFFSETTO:-0800
TZNAME:PST
DTSTART:20261101T090000
END:STANDARD
END:VTIMEZONE
BEGIN:VEVENT
DTSTART;TZID=America/Los_Angeles:20251127T000000
DTEND;TZID=America/Los_Angeles:20251207T235959
DTSTAMP:20260423T134546
CREATED:20251112T161742Z
LAST-MODIFIED:20251112T162402Z
UID:10000518-1764201600-1765151999@siliconvalleyyouthbridge.org
SUMMARY:Fall Nationals in San Francisco
DESCRIPTION:Fall Nationals information \n\n\n\n\nThis is one of the three big “North American Bridge Championships” every year! It is only in SF every ~6 years.\n\n\n\nThere are tons of events for all levels of players. Please let us know if you are interested in playing or need a partner / teammates.\n\n\n\nThere will be a “Junior Night” on Saturday\, 12/6 evening (around 7pm at the Marriott Marquis in SF) with free food and a “crazy bridge” tournament. We understand it is late for kids if you are not staying near the host hotel. Please let us know if you are interested and I will send you more info.
URL:https://siliconvalleyyouthbridge.org/event/fall-nationals-in-san-francisco/
CATEGORIES:Other
END:VEVENT
BEGIN:VEVENT
DTSTART;TZID=America/Los_Angeles:20251128T180000
DTEND;TZID=America/Los_Angeles:20251128T203000
DTSTAMP:20260423T134546
CREATED:20251112T160227Z
LAST-MODIFIED:20251112T161041Z
UID:10000504-1764352800-1764361800@siliconvalleyyouthbridge.org
SUMMARY:Casual Friday - Cancelled for Thanksgiving / Fall Nationals in San Francisco
DESCRIPTION:Join us every Friday for pizza\, snacks\, and some casual bridge! \n\n\n\n \n\n\n\nInformation and Signup \n\n\n\nPalo Alto Bridge Center link
URL:https://siliconvalleyyouthbridge.org/event/casual-friday-12/
CATEGORIES:Casual Friday
ATTACH;FMTTYPE=image/jpeg:https://siliconvalleyyouthbridge.org/wp-content/uploads/Pages/casualfriday2.jpg
END:VEVENT
END:VCALENDAR