BEGIN:VCALENDAR
VERSION:2.0
PRODID:-//Silicon Valley Youth Bridge - ECPv6.15.20//NONSGML v1.0//EN
CALSCALE:GREGORIAN
METHOD:PUBLISH
X-ORIGINAL-URL:https://siliconvalleyyouthbridge.org
X-WR-CALDESC:Events for Silicon Valley Youth Bridge
REFRESH-INTERVAL;VALUE=DURATION:PT1H
X-Robots-Tag:noindex
X-PUBLISHED-TTL:PT1H
BEGIN:VTIMEZONE
TZID:America/Los_Angeles
BEGIN:DAYLIGHT
TZOFFSETFROM:-0800
TZOFFSETTO:-0700
TZNAME:PDT
DTSTART:20240310T100000
END:DAYLIGHT
BEGIN:STANDARD
TZOFFSETFROM:-0700
TZOFFSETTO:-0800
TZNAME:PST
DTSTART:20241103T090000
END:STANDARD
BEGIN:DAYLIGHT
TZOFFSETFROM:-0800
TZOFFSETTO:-0700
TZNAME:PDT
DTSTART:20250309T100000
END:DAYLIGHT
BEGIN:STANDARD
TZOFFSETFROM:-0700
TZOFFSETTO:-0800
TZNAME:PST
DTSTART:20251102T090000
END:STANDARD
BEGIN:DAYLIGHT
TZOFFSETFROM:-0800
TZOFFSETTO:-0700
TZNAME:PDT
DTSTART:20260308T100000
END:DAYLIGHT
BEGIN:STANDARD
TZOFFSETFROM:-0700
TZOFFSETTO:-0800
TZNAME:PST
DTSTART:20261101T090000
END:STANDARD
END:VTIMEZONE
BEGIN:VEVENT
DTSTART;TZID=America/Los_Angeles:20251121T180000
DTEND;TZID=America/Los_Angeles:20251121T203000
DTSTAMP:20260423T153536
CREATED:20250104T222532Z
LAST-MODIFIED:20250104T222534Z
UID:10000503-1763748000-1763757000@siliconvalleyyouthbridge.org
SUMMARY:Casual Friday
DESCRIPTION:Join us every Friday for pizza\, snacks\, and some casual bridge! \n\n\n\nInformation and Signup \n\n\n\nPalo Alto Bridge Center link
URL:https://siliconvalleyyouthbridge.org/event/casual-friday-8/2025-11-21/
CATEGORIES:Casual Friday
ATTACH;FMTTYPE=image/jpeg:https://siliconvalleyyouthbridge.org/wp-content/uploads/Pages/casualfriday2.jpg
END:VEVENT
BEGIN:VEVENT
DTSTART;TZID=America/Los_Angeles:20251114T180000
DTEND;TZID=America/Los_Angeles:20251114T203000
DTSTAMP:20260423T153536
CREATED:20250104T222532Z
LAST-MODIFIED:20250104T222534Z
UID:10000502-1763143200-1763152200@siliconvalleyyouthbridge.org
SUMMARY:Casual Friday
DESCRIPTION:Join us every Friday for pizza\, snacks\, and some casual bridge! \n\n\n\nInformation and Signup \n\n\n\nPalo Alto Bridge Center link
URL:https://siliconvalleyyouthbridge.org/event/casual-friday-8/2025-11-14/
CATEGORIES:Casual Friday
ATTACH;FMTTYPE=image/jpeg:https://siliconvalleyyouthbridge.org/wp-content/uploads/Pages/casualfriday2.jpg
END:VEVENT
BEGIN:VEVENT
DTSTART;TZID=America/Los_Angeles:20251107T180000
DTEND;TZID=America/Los_Angeles:20251107T203000
DTSTAMP:20260423T153536
CREATED:20250104T222532Z
LAST-MODIFIED:20250104T222534Z
UID:10000501-1762538400-1762547400@siliconvalleyyouthbridge.org
SUMMARY:Casual Friday
DESCRIPTION:Join us every Friday for pizza\, snacks\, and some casual bridge! \n\n\n\nInformation and Signup \n\n\n\nPalo Alto Bridge Center link
URL:https://siliconvalleyyouthbridge.org/event/casual-friday-8/2025-11-07/
CATEGORIES:Casual Friday
ATTACH;FMTTYPE=image/jpeg:https://siliconvalleyyouthbridge.org/wp-content/uploads/Pages/casualfriday2.jpg
END:VEVENT
BEGIN:VEVENT
DTSTART;TZID=America/Los_Angeles:20251031T180000
DTEND;TZID=America/Los_Angeles:20251031T203000
DTSTAMP:20260423T153536
CREATED:20251112T160109Z
LAST-MODIFIED:20251112T160924Z
UID:10000500-1761933600-1761942600@siliconvalleyyouthbridge.org
SUMMARY:Casual Friday - Cancelled for Halloween
DESCRIPTION:Join us every Friday for pizza\, snacks\, and some casual bridge! \n\n\n\n \n\n\n\nnformation and Signup \n\n\n\nPalo Alto Bridge Center lin
URL:https://siliconvalleyyouthbridge.org/event/casual-friday-11/
CATEGORIES:Casual Friday
ATTACH;FMTTYPE=image/jpeg:https://siliconvalleyyouthbridge.org/wp-content/uploads/Pages/casualfriday2.jpg
END:VEVENT
BEGIN:VEVENT
DTSTART;TZID=America/Los_Angeles:20251024T180000
DTEND;TZID=America/Los_Angeles:20251024T203000
DTSTAMP:20260423T153536
CREATED:20250104T222532Z
LAST-MODIFIED:20250104T222534Z
UID:10000499-1761328800-1761337800@siliconvalleyyouthbridge.org
SUMMARY:Casual Friday
DESCRIPTION:Join us every Friday for pizza\, snacks\, and some casual bridge! \n\n\n\nInformation and Signup \n\n\n\nPalo Alto Bridge Center link
URL:https://siliconvalleyyouthbridge.org/event/casual-friday-8/2025-10-24/
CATEGORIES:Casual Friday
ATTACH;FMTTYPE=image/jpeg:https://siliconvalleyyouthbridge.org/wp-content/uploads/Pages/casualfriday2.jpg
END:VEVENT
BEGIN:VEVENT
DTSTART;TZID=America/Los_Angeles:20251017T180000
DTEND;TZID=America/Los_Angeles:20251017T203000
DTSTAMP:20260423T153536
CREATED:20250104T222532Z
LAST-MODIFIED:20250104T222534Z
UID:10000498-1760724000-1760733000@siliconvalleyyouthbridge.org
SUMMARY:Casual Friday
DESCRIPTION:Join us every Friday for pizza\, snacks\, and some casual bridge! \n\n\n\nInformation and Signup \n\n\n\nPalo Alto Bridge Center link
URL:https://siliconvalleyyouthbridge.org/event/casual-friday-8/2025-10-17/
CATEGORIES:Casual Friday
ATTACH;FMTTYPE=image/jpeg:https://siliconvalleyyouthbridge.org/wp-content/uploads/Pages/casualfriday2.jpg
END:VEVENT
BEGIN:VEVENT
DTSTART;TZID=America/Los_Angeles:20251010T180000
DTEND;TZID=America/Los_Angeles:20251010T203000
DTSTAMP:20260423T153536
CREATED:20250104T222532Z
LAST-MODIFIED:20250104T222534Z
UID:10000497-1760119200-1760128200@siliconvalleyyouthbridge.org
SUMMARY:Casual Friday
DESCRIPTION:Join us every Friday for pizza\, snacks\, and some casual bridge! \n\n\n\nInformation and Signup \n\n\n\nPalo Alto Bridge Center link
URL:https://siliconvalleyyouthbridge.org/event/casual-friday-8/2025-10-10/
CATEGORIES:Casual Friday
ATTACH;FMTTYPE=image/jpeg:https://siliconvalleyyouthbridge.org/wp-content/uploads/Pages/casualfriday2.jpg
END:VEVENT
BEGIN:VEVENT
DTSTART;TZID=America/Los_Angeles:20251003T180000
DTEND;TZID=America/Los_Angeles:20251003T203000
DTSTAMP:20260423T153536
CREATED:20250104T222532Z
LAST-MODIFIED:20250104T222534Z
UID:10000496-1759514400-1759523400@siliconvalleyyouthbridge.org
SUMMARY:Casual Friday
DESCRIPTION:Join us every Friday for pizza\, snacks\, and some casual bridge! \n\n\n\nInformation and Signup \n\n\n\nPalo Alto Bridge Center link
URL:https://siliconvalleyyouthbridge.org/event/casual-friday-8/2025-10-03/
CATEGORIES:Casual Friday
ATTACH;FMTTYPE=image/jpeg:https://siliconvalleyyouthbridge.org/wp-content/uploads/Pages/casualfriday2.jpg
END:VEVENT
BEGIN:VEVENT
DTSTART;TZID=America/Los_Angeles:20250926T180000
DTEND;TZID=America/Los_Angeles:20250926T203000
DTSTAMP:20260423T153536
CREATED:20250104T222532Z
LAST-MODIFIED:20250104T222534Z
UID:10000495-1758909600-1758918600@siliconvalleyyouthbridge.org
SUMMARY:Casual Friday
DESCRIPTION:Join us every Friday for pizza\, snacks\, and some casual bridge! \n\n\n\nInformation and Signup \n\n\n\nPalo Alto Bridge Center link
URL:https://siliconvalleyyouthbridge.org/event/casual-friday-8/2025-09-26/
CATEGORIES:Casual Friday
ATTACH;FMTTYPE=image/jpeg:https://siliconvalleyyouthbridge.org/wp-content/uploads/Pages/casualfriday2.jpg
END:VEVENT
BEGIN:VEVENT
DTSTART;TZID=America/Los_Angeles:20250919T180000
DTEND;TZID=America/Los_Angeles:20250919T203000
DTSTAMP:20260423T153536
CREATED:20250918T030337Z
LAST-MODIFIED:20250918T030359Z
UID:10000494-1758304800-1758313800@siliconvalleyyouthbridge.org
SUMMARY:Casual Friday *CANCELLED*
DESCRIPTION:Join us every Friday for pizza\, snacks\, and some casual bridge! \n\n\n\nInformation and Signup \n\n\n\nPalo Alto Bridge Center link
URL:https://siliconvalleyyouthbridge.org/event/casual-friday-10/
CATEGORIES:Casual Friday
ATTACH;FMTTYPE=image/jpeg:https://siliconvalleyyouthbridge.org/wp-content/uploads/Pages/casualfriday2.jpg
END:VEVENT
BEGIN:VEVENT
DTSTART;TZID=America/Los_Angeles:20250912T180000
DTEND;TZID=America/Los_Angeles:20250912T203000
DTSTAMP:20260423T153536
CREATED:20250104T222532Z
LAST-MODIFIED:20250104T222534Z
UID:10000493-1757700000-1757709000@siliconvalleyyouthbridge.org
SUMMARY:Casual Friday
DESCRIPTION:Join us every Friday for pizza\, snacks\, and some casual bridge! \n\n\n\nInformation and Signup \n\n\n\nPalo Alto Bridge Center link
URL:https://siliconvalleyyouthbridge.org/event/casual-friday-8/2025-09-12/
CATEGORIES:Casual Friday
ATTACH;FMTTYPE=image/jpeg:https://siliconvalleyyouthbridge.org/wp-content/uploads/Pages/casualfriday2.jpg
END:VEVENT
BEGIN:VEVENT
DTSTART;TZID=America/Los_Angeles:20250905T180000
DTEND;TZID=America/Los_Angeles:20250905T203000
DTSTAMP:20260423T153536
CREATED:20250104T222532Z
LAST-MODIFIED:20250104T222534Z
UID:10000492-1757095200-1757104200@siliconvalleyyouthbridge.org
SUMMARY:Casual Friday
DESCRIPTION:Join us every Friday for pizza\, snacks\, and some casual bridge! \n\n\n\nInformation and Signup \n\n\n\nPalo Alto Bridge Center link
URL:https://siliconvalleyyouthbridge.org/event/casual-friday-8/2025-09-05/
CATEGORIES:Casual Friday
ATTACH;FMTTYPE=image/jpeg:https://siliconvalleyyouthbridge.org/wp-content/uploads/Pages/casualfriday2.jpg
END:VEVENT
BEGIN:VEVENT
DTSTART;TZID=America/Los_Angeles:20250829T180000
DTEND;TZID=America/Los_Angeles:20250829T203000
DTSTAMP:20260423T153536
CREATED:20250104T222532Z
LAST-MODIFIED:20250104T222534Z
UID:10000491-1756490400-1756499400@siliconvalleyyouthbridge.org
SUMMARY:Casual Friday
DESCRIPTION:Join us every Friday for pizza\, snacks\, and some casual bridge! \n\n\n\nInformation and Signup \n\n\n\nPalo Alto Bridge Center link
URL:https://siliconvalleyyouthbridge.org/event/casual-friday-8/2025-08-29/
CATEGORIES:Casual Friday
ATTACH;FMTTYPE=image/jpeg:https://siliconvalleyyouthbridge.org/wp-content/uploads/Pages/casualfriday2.jpg
END:VEVENT
BEGIN:VEVENT
DTSTART;TZID=America/Los_Angeles:20250822T180000
DTEND;TZID=America/Los_Angeles:20250822T203000
DTSTAMP:20260423T153536
CREATED:20250104T222532Z
LAST-MODIFIED:20250104T222534Z
UID:10000490-1755885600-1755894600@siliconvalleyyouthbridge.org
SUMMARY:Casual Friday
DESCRIPTION:Join us every Friday for pizza\, snacks\, and some casual bridge! \n\n\n\nInformation and Signup \n\n\n\nPalo Alto Bridge Center link
URL:https://siliconvalleyyouthbridge.org/event/casual-friday-8/2025-08-22/
CATEGORIES:Casual Friday
ATTACH;FMTTYPE=image/jpeg:https://siliconvalleyyouthbridge.org/wp-content/uploads/Pages/casualfriday2.jpg
END:VEVENT
BEGIN:VEVENT
DTSTART;TZID=America/Los_Angeles:20250815T180000
DTEND;TZID=America/Los_Angeles:20250815T203000
DTSTAMP:20260423T153536
CREATED:20250104T222532Z
LAST-MODIFIED:20250104T222534Z
UID:10000489-1755280800-1755289800@siliconvalleyyouthbridge.org
SUMMARY:Casual Friday
DESCRIPTION:Join us every Friday for pizza\, snacks\, and some casual bridge! \n\n\n\nInformation and Signup \n\n\n\nPalo Alto Bridge Center link
URL:https://siliconvalleyyouthbridge.org/event/casual-friday-8/2025-08-15/
CATEGORIES:Casual Friday
ATTACH;FMTTYPE=image/jpeg:https://siliconvalleyyouthbridge.org/wp-content/uploads/Pages/casualfriday2.jpg
END:VEVENT
BEGIN:VEVENT
DTSTART;TZID=America/Los_Angeles:20250808T180000
DTEND;TZID=America/Los_Angeles:20250808T203000
DTSTAMP:20260423T153536
CREATED:20250104T222532Z
LAST-MODIFIED:20250104T222534Z
UID:10000488-1754676000-1754685000@siliconvalleyyouthbridge.org
SUMMARY:Casual Friday
DESCRIPTION:Join us every Friday for pizza\, snacks\, and some casual bridge! \n\n\n\nInformation and Signup \n\n\n\nPalo Alto Bridge Center link
URL:https://siliconvalleyyouthbridge.org/event/casual-friday-8/2025-08-08/
CATEGORIES:Casual Friday
ATTACH;FMTTYPE=image/jpeg:https://siliconvalleyyouthbridge.org/wp-content/uploads/Pages/casualfriday2.jpg
END:VEVENT
BEGIN:VEVENT
DTSTART;TZID=America/Los_Angeles:20250801T180000
DTEND;TZID=America/Los_Angeles:20250801T203000
DTSTAMP:20260423T153536
CREATED:20250104T222532Z
LAST-MODIFIED:20250104T222534Z
UID:10000487-1754071200-1754080200@siliconvalleyyouthbridge.org
SUMMARY:Casual Friday
DESCRIPTION:Join us every Friday for pizza\, snacks\, and some casual bridge! \n\n\n\nInformation and Signup \n\n\n\nPalo Alto Bridge Center link
URL:https://siliconvalleyyouthbridge.org/event/casual-friday-8/2025-08-01/
CATEGORIES:Casual Friday
ATTACH;FMTTYPE=image/jpeg:https://siliconvalleyyouthbridge.org/wp-content/uploads/Pages/casualfriday2.jpg
END:VEVENT
BEGIN:VEVENT
DTSTART;TZID=America/Los_Angeles:20250725T180000
DTEND;TZID=America/Los_Angeles:20250725T203000
DTSTAMP:20260423T153536
CREATED:20250104T222532Z
LAST-MODIFIED:20250104T222534Z
UID:10000486-1753466400-1753475400@siliconvalleyyouthbridge.org
SUMMARY:Casual Friday
DESCRIPTION:Join us every Friday for pizza\, snacks\, and some casual bridge! \n\n\n\nInformation and Signup \n\n\n\nPalo Alto Bridge Center link
URL:https://siliconvalleyyouthbridge.org/event/casual-friday-8/2025-07-25/
CATEGORIES:Casual Friday
ATTACH;FMTTYPE=image/jpeg:https://siliconvalleyyouthbridge.org/wp-content/uploads/Pages/casualfriday2.jpg
END:VEVENT
BEGIN:VEVENT
DTSTART;TZID=America/Los_Angeles:20250718T180000
DTEND;TZID=America/Los_Angeles:20250718T203000
DTSTAMP:20260423T153536
CREATED:20250104T222532Z
LAST-MODIFIED:20250104T222534Z
UID:10000485-1752861600-1752870600@siliconvalleyyouthbridge.org
SUMMARY:Casual Friday
DESCRIPTION:Join us every Friday for pizza\, snacks\, and some casual bridge! \n\n\n\nInformation and Signup \n\n\n\nPalo Alto Bridge Center link
URL:https://siliconvalleyyouthbridge.org/event/casual-friday-8/2025-07-18/
CATEGORIES:Casual Friday
ATTACH;FMTTYPE=image/jpeg:https://siliconvalleyyouthbridge.org/wp-content/uploads/Pages/casualfriday2.jpg
END:VEVENT
BEGIN:VEVENT
DTSTART;TZID=America/Los_Angeles:20250711T180000
DTEND;TZID=America/Los_Angeles:20250711T203000
DTSTAMP:20260423T153536
CREATED:20250104T222532Z
LAST-MODIFIED:20250104T222534Z
UID:10000484-1752256800-1752265800@siliconvalleyyouthbridge.org
SUMMARY:Casual Friday
DESCRIPTION:Join us every Friday for pizza\, snacks\, and some casual bridge! \n\n\n\nInformation and Signup \n\n\n\nPalo Alto Bridge Center link
URL:https://siliconvalleyyouthbridge.org/event/casual-friday-8/2025-07-11/
CATEGORIES:Casual Friday
ATTACH;FMTTYPE=image/jpeg:https://siliconvalleyyouthbridge.org/wp-content/uploads/Pages/casualfriday2.jpg
END:VEVENT
BEGIN:VEVENT
DTSTART;TZID=America/Los_Angeles:20250627T180000
DTEND;TZID=America/Los_Angeles:20250627T203000
DTSTAMP:20260423T153536
CREATED:20250104T222532Z
LAST-MODIFIED:20250104T222534Z
UID:10000482-1751047200-1751056200@siliconvalleyyouthbridge.org
SUMMARY:Casual Friday
DESCRIPTION:Join us every Friday for pizza\, snacks\, and some casual bridge! \n\n\n\nInformation and Signup \n\n\n\nPalo Alto Bridge Center link
URL:https://siliconvalleyyouthbridge.org/event/casual-friday-8/2025-06-27/
CATEGORIES:Casual Friday
ATTACH;FMTTYPE=image/jpeg:https://siliconvalleyyouthbridge.org/wp-content/uploads/Pages/casualfriday2.jpg
END:VEVENT
BEGIN:VEVENT
DTSTART;TZID=America/Los_Angeles:20250620T180000
DTEND;TZID=America/Los_Angeles:20250620T203000
DTSTAMP:20260423T153536
CREATED:20250104T222532Z
LAST-MODIFIED:20250104T222534Z
UID:10000481-1750442400-1750451400@siliconvalleyyouthbridge.org
SUMMARY:Casual Friday
DESCRIPTION:Join us every Friday for pizza\, snacks\, and some casual bridge! \n\n\n\nInformation and Signup \n\n\n\nPalo Alto Bridge Center link
URL:https://siliconvalleyyouthbridge.org/event/casual-friday-8/2025-06-20/
CATEGORIES:Casual Friday
ATTACH;FMTTYPE=image/jpeg:https://siliconvalleyyouthbridge.org/wp-content/uploads/Pages/casualfriday2.jpg
END:VEVENT
BEGIN:VEVENT
DTSTART;TZID=America/Los_Angeles:20250613T180000
DTEND;TZID=America/Los_Angeles:20250613T203000
DTSTAMP:20260423T153536
CREATED:20250104T222532Z
LAST-MODIFIED:20250104T222534Z
UID:10000480-1749837600-1749846600@siliconvalleyyouthbridge.org
SUMMARY:Casual Friday
DESCRIPTION:Join us every Friday for pizza\, snacks\, and some casual bridge! \n\n\n\nInformation and Signup \n\n\n\nPalo Alto Bridge Center link
URL:https://siliconvalleyyouthbridge.org/event/casual-friday-8/2025-06-13/
CATEGORIES:Casual Friday
ATTACH;FMTTYPE=image/jpeg:https://siliconvalleyyouthbridge.org/wp-content/uploads/Pages/casualfriday2.jpg
END:VEVENT
BEGIN:VEVENT
DTSTART;TZID=America/Los_Angeles:20250606T180000
DTEND;TZID=America/Los_Angeles:20250606T203000
DTSTAMP:20260423T153536
CREATED:20250104T222532Z
LAST-MODIFIED:20250104T222534Z
UID:10000479-1749232800-1749241800@siliconvalleyyouthbridge.org
SUMMARY:Casual Friday
DESCRIPTION:Join us every Friday for pizza\, snacks\, and some casual bridge! \n\n\n\nInformation and Signup \n\n\n\nPalo Alto Bridge Center link
URL:https://siliconvalleyyouthbridge.org/event/casual-friday-8/2025-06-06/
CATEGORIES:Casual Friday
ATTACH;FMTTYPE=image/jpeg:https://siliconvalleyyouthbridge.org/wp-content/uploads/Pages/casualfriday2.jpg
END:VEVENT
BEGIN:VEVENT
DTSTART;TZID=America/Los_Angeles:20250530T180000
DTEND;TZID=America/Los_Angeles:20250530T203000
DTSTAMP:20260423T153536
CREATED:20250104T222532Z
LAST-MODIFIED:20250104T222534Z
UID:10000478-1748628000-1748637000@siliconvalleyyouthbridge.org
SUMMARY:Casual Friday
DESCRIPTION:Join us every Friday for pizza\, snacks\, and some casual bridge! \n\n\n\nInformation and Signup \n\n\n\nPalo Alto Bridge Center link
URL:https://siliconvalleyyouthbridge.org/event/casual-friday-8/2025-05-30/
CATEGORIES:Casual Friday
ATTACH;FMTTYPE=image/jpeg:https://siliconvalleyyouthbridge.org/wp-content/uploads/Pages/casualfriday2.jpg
END:VEVENT
BEGIN:VEVENT
DTSTART;TZID=America/Los_Angeles:20250523T180000
DTEND;TZID=America/Los_Angeles:20250523T203000
DTSTAMP:20260423T153536
CREATED:20250104T222532Z
LAST-MODIFIED:20250104T222534Z
UID:10000477-1748023200-1748032200@siliconvalleyyouthbridge.org
SUMMARY:Casual Friday
DESCRIPTION:Join us every Friday for pizza\, snacks\, and some casual bridge! \n\n\n\nInformation and Signup \n\n\n\nPalo Alto Bridge Center link
URL:https://siliconvalleyyouthbridge.org/event/casual-friday-8/2025-05-23/
CATEGORIES:Casual Friday
ATTACH;FMTTYPE=image/jpeg:https://siliconvalleyyouthbridge.org/wp-content/uploads/Pages/casualfriday2.jpg
END:VEVENT
BEGIN:VEVENT
DTSTART;TZID=America/Los_Angeles:20250516T180000
DTEND;TZID=America/Los_Angeles:20250516T203000
DTSTAMP:20260423T153536
CREATED:20250104T222532Z
LAST-MODIFIED:20250104T222534Z
UID:10000476-1747418400-1747427400@siliconvalleyyouthbridge.org
SUMMARY:Casual Friday
DESCRIPTION:Join us every Friday for pizza\, snacks\, and some casual bridge! \n\n\n\nInformation and Signup \n\n\n\nPalo Alto Bridge Center link
URL:https://siliconvalleyyouthbridge.org/event/casual-friday-8/2025-05-16/
CATEGORIES:Casual Friday
ATTACH;FMTTYPE=image/jpeg:https://siliconvalleyyouthbridge.org/wp-content/uploads/Pages/casualfriday2.jpg
END:VEVENT
BEGIN:VEVENT
DTSTART;TZID=America/Los_Angeles:20250509T180000
DTEND;TZID=America/Los_Angeles:20250509T203000
DTSTAMP:20260423T153536
CREATED:20250104T222532Z
LAST-MODIFIED:20250104T222534Z
UID:10000475-1746813600-1746822600@siliconvalleyyouthbridge.org
SUMMARY:Casual Friday
DESCRIPTION:Join us every Friday for pizza\, snacks\, and some casual bridge! \n\n\n\nInformation and Signup \n\n\n\nPalo Alto Bridge Center link
URL:https://siliconvalleyyouthbridge.org/event/casual-friday-8/2025-05-09/
CATEGORIES:Casual Friday
ATTACH;FMTTYPE=image/jpeg:https://siliconvalleyyouthbridge.org/wp-content/uploads/Pages/casualfriday2.jpg
END:VEVENT
BEGIN:VEVENT
DTSTART;TZID=America/Los_Angeles:20250502T180000
DTEND;TZID=America/Los_Angeles:20250502T203000
DTSTAMP:20260423T153536
CREATED:20250104T222532Z
LAST-MODIFIED:20250104T222534Z
UID:10000474-1746208800-1746217800@siliconvalleyyouthbridge.org
SUMMARY:Casual Friday
DESCRIPTION:Join us every Friday for pizza\, snacks\, and some casual bridge! \n\n\n\nInformation and Signup \n\n\n\nPalo Alto Bridge Center link
URL:https://siliconvalleyyouthbridge.org/event/casual-friday-8/2025-05-02/
CATEGORIES:Casual Friday
ATTACH;FMTTYPE=image/jpeg:https://siliconvalleyyouthbridge.org/wp-content/uploads/Pages/casualfriday2.jpg
END:VEVENT
BEGIN:VEVENT
DTSTART;TZID=America/Los_Angeles:20250425T180000
DTEND;TZID=America/Los_Angeles:20250425T203000
DTSTAMP:20260423T153536
CREATED:20250104T222532Z
LAST-MODIFIED:20250104T222534Z
UID:10000473-1745604000-1745613000@siliconvalleyyouthbridge.org
SUMMARY:Casual Friday
DESCRIPTION:Join us every Friday for pizza\, snacks\, and some casual bridge! \n\n\n\nInformation and Signup \n\n\n\nPalo Alto Bridge Center link
URL:https://siliconvalleyyouthbridge.org/event/casual-friday-8/2025-04-25/
CATEGORIES:Casual Friday
ATTACH;FMTTYPE=image/jpeg:https://siliconvalleyyouthbridge.org/wp-content/uploads/Pages/casualfriday2.jpg
END:VEVENT
END:VCALENDAR