BEGIN:VCALENDAR
VERSION:2.0
PRODID:-//Silicon Valley Youth Bridge - ECPv6.15.20//NONSGML v1.0//EN
CALSCALE:GREGORIAN
METHOD:PUBLISH
X-WR-CALNAME:Silicon Valley Youth Bridge
X-ORIGINAL-URL:https://siliconvalleyyouthbridge.org
X-WR-CALDESC:Events for Silicon Valley Youth Bridge
REFRESH-INTERVAL;VALUE=DURATION:PT1H
X-Robots-Tag:noindex
X-PUBLISHED-TTL:PT1H
BEGIN:VTIMEZONE
TZID:America/Los_Angeles
BEGIN:DAYLIGHT
TZOFFSETFROM:-0800
TZOFFSETTO:-0700
TZNAME:PDT
DTSTART:20240310T100000
END:DAYLIGHT
BEGIN:STANDARD
TZOFFSETFROM:-0700
TZOFFSETTO:-0800
TZNAME:PST
DTSTART:20241103T090000
END:STANDARD
BEGIN:DAYLIGHT
TZOFFSETFROM:-0800
TZOFFSETTO:-0700
TZNAME:PDT
DTSTART:20250309T100000
END:DAYLIGHT
BEGIN:STANDARD
TZOFFSETFROM:-0700
TZOFFSETTO:-0800
TZNAME:PST
DTSTART:20251102T090000
END:STANDARD
BEGIN:DAYLIGHT
TZOFFSETFROM:-0800
TZOFFSETTO:-0700
TZNAME:PDT
DTSTART:20260308T100000
END:DAYLIGHT
BEGIN:STANDARD
TZOFFSETFROM:-0700
TZOFFSETTO:-0800
TZNAME:PST
DTSTART:20261101T090000
END:STANDARD
END:VTIMEZONE
BEGIN:VEVENT
DTSTART;TZID=America/Los_Angeles:20250607T130000
DTEND;TZID=America/Los_Angeles:20250607T170000
DTSTAMP:20260424T030004
CREATED:20250425T053100Z
LAST-MODIFIED:20250425T053241Z
UID:10000509-1749301200-1749315600@siliconvalleyyouthbridge.org
SUMMARY:Weekend Summer Camp
DESCRIPTION:Sign-up Here! https://siliconvalleyyouthbridge.org/bridge-camp/
URL:https://siliconvalleyyouthbridge.org/event/summer-camp-weekend-1/2025-06-07/
CATEGORIES:Other
END:VEVENT
BEGIN:VEVENT
DTSTART;TZID=America/Los_Angeles:20250608T130000
DTEND;TZID=America/Los_Angeles:20250608T170000
DTSTAMP:20260424T030004
CREATED:20250425T053100Z
LAST-MODIFIED:20250425T053241Z
UID:10000510-1749387600-1749402000@siliconvalleyyouthbridge.org
SUMMARY:Weekend Summer Camp
DESCRIPTION:Sign-up Here! https://siliconvalleyyouthbridge.org/bridge-camp/
URL:https://siliconvalleyyouthbridge.org/event/summer-camp-weekend-1/2025-06-08/
CATEGORIES:Other
END:VEVENT
BEGIN:VEVENT
DTSTART;TZID=America/Los_Angeles:20250614T130000
DTEND;TZID=America/Los_Angeles:20250614T170000
DTSTAMP:20260424T030004
CREATED:20250425T053100Z
LAST-MODIFIED:20250425T053241Z
UID:10000511-1749906000-1749920400@siliconvalleyyouthbridge.org
SUMMARY:Weekend Summer Camp
DESCRIPTION:Sign-up Here! https://siliconvalleyyouthbridge.org/bridge-camp/
URL:https://siliconvalleyyouthbridge.org/event/summer-camp-weekend-1/2025-06-14/
CATEGORIES:Other
END:VEVENT
BEGIN:VEVENT
DTSTART;TZID=America/Los_Angeles:20250615T130000
DTEND;TZID=America/Los_Angeles:20250615T170000
DTSTAMP:20260424T030004
CREATED:20250425T053100Z
LAST-MODIFIED:20250425T053241Z
UID:10000512-1749992400-1750006800@siliconvalleyyouthbridge.org
SUMMARY:Weekend Summer Camp
DESCRIPTION:Sign-up Here! https://siliconvalleyyouthbridge.org/bridge-camp/
URL:https://siliconvalleyyouthbridge.org/event/summer-camp-weekend-1/2025-06-15/
CATEGORIES:Other
END:VEVENT
BEGIN:VEVENT
DTSTART;TZID=America/Los_Angeles:20251127T000000
DTEND;TZID=America/Los_Angeles:20251207T235959
DTSTAMP:20260424T030004
CREATED:20251112T161742Z
LAST-MODIFIED:20251112T162402Z
UID:10000518-1764201600-1765151999@siliconvalleyyouthbridge.org
SUMMARY:Fall Nationals in San Francisco
DESCRIPTION:Fall Nationals information \n\n\n\n\nThis is one of the three big “North American Bridge Championships” every year! It is only in SF every ~6 years.\n\n\n\nThere are tons of events for all levels of players. Please let us know if you are interested in playing or need a partner / teammates.\n\n\n\nThere will be a “Junior Night” on Saturday\, 12/6 evening (around 7pm at the Marriott Marquis in SF) with free food and a “crazy bridge” tournament. We understand it is late for kids if you are not staying near the host hotel. Please let us know if you are interested and I will send you more info.
URL:https://siliconvalleyyouthbridge.org/event/fall-nationals-in-san-francisco/
CATEGORIES:Other
END:VEVENT
END:VCALENDAR