BEGIN:VCALENDAR
VERSION:2.0
PRODID:-//Silicon Valley Youth Bridge - ECPv6.15.20//NONSGML v1.0//EN
CALSCALE:GREGORIAN
METHOD:PUBLISH
X-ORIGINAL-URL:https://siliconvalleyyouthbridge.org
X-WR-CALDESC:Events for Silicon Valley Youth Bridge
REFRESH-INTERVAL;VALUE=DURATION:PT1H
X-Robots-Tag:noindex
X-PUBLISHED-TTL:PT1H
BEGIN:VTIMEZONE
TZID:America/Los_Angeles
BEGIN:DAYLIGHT
TZOFFSETFROM:-0800
TZOFFSETTO:-0700
TZNAME:PDT
DTSTART:20230312T100000
END:DAYLIGHT
BEGIN:STANDARD
TZOFFSETFROM:-0700
TZOFFSETTO:-0800
TZNAME:PST
DTSTART:20231105T090000
END:STANDARD
BEGIN:DAYLIGHT
TZOFFSETFROM:-0800
TZOFFSETTO:-0700
TZNAME:PDT
DTSTART:20240310T100000
END:DAYLIGHT
BEGIN:STANDARD
TZOFFSETFROM:-0700
TZOFFSETTO:-0800
TZNAME:PST
DTSTART:20241103T090000
END:STANDARD
BEGIN:DAYLIGHT
TZOFFSETFROM:-0800
TZOFFSETTO:-0700
TZNAME:PDT
DTSTART:20250309T100000
END:DAYLIGHT
BEGIN:STANDARD
TZOFFSETFROM:-0700
TZOFFSETTO:-0800
TZNAME:PST
DTSTART:20251102T090000
END:STANDARD
BEGIN:DAYLIGHT
TZOFFSETFROM:-0800
TZOFFSETTO:-0700
TZNAME:PDT
DTSTART:20260308T100000
END:DAYLIGHT
BEGIN:STANDARD
TZOFFSETFROM:-0700
TZOFFSETTO:-0800
TZNAME:PST
DTSTART:20261101T090000
END:STANDARD
END:VTIMEZONE
BEGIN:VEVENT
DTSTART;TZID=America/Los_Angeles:20240616T110000
DTEND;TZID=America/Los_Angeles:20240616T150000
DTSTAMP:20260425T034441
CREATED:20240121T052108Z
LAST-MODIFIED:20250329T000542Z
UID:10000400-1718535600-1718550000@siliconvalleyyouthbridge.org
SUMMARY:Pizza Party Tournament
DESCRIPTION:This tournament will be a duplicate game with ACBL masterpoints awarded. This special tournament is for family members to play together\, regardless of experience or skill level! Intergenerational partnerships and beginners are highly encouraged to attend!  Depending on sign-ups\, we may split up into different sections.  There is a $5 entry fee that includes pizza lunch and other refreshments. \n\n\n\nDon’t have a family-member partner? It is okay to play with a non-family member if you cannot recruit one to play with you. You have to try first though! It is okay if they have never played bridge before. \n\n\n\nNot ready for tournament play? We will have volunteers available to work with new players at a teaching table. \n\n\n\n>>> SIGN-UP HERE (bottom of page)! <<< \n\n\n\nRead more about our Pizza Party Tournaments
URL:https://siliconvalleyyouthbridge.org/event/pizza-party-tournaments-3/
LOCATION:CA
CATEGORIES:Pizza Party
END:VEVENT
BEGIN:VEVENT
DTSTART;TZID=America/Los_Angeles:20240706T120000
DTEND;TZID=America/Los_Angeles:20240706T160000
DTSTAMP:20260425T034441
CREATED:20240121T050840Z
LAST-MODIFIED:20240520T182541Z
UID:10000397-1720267200-1720281600@siliconvalleyyouthbridge.org
SUMMARY:CBE vs SiVY Tournament
DESCRIPTION:Palo Alto Bridge Center
URL:https://siliconvalleyyouthbridge.org/event/cbe-vs-sivy-tournament/
LOCATION:CA
CATEGORIES:Pizza Party
END:VEVENT
BEGIN:VEVENT
DTSTART;TZID=America/Los_Angeles:20240810T150000
DTEND;TZID=America/Los_Angeles:20240810T190000
DTSTAMP:20260425T034441
CREATED:20240121T052248Z
LAST-MODIFIED:20250329T000634Z
UID:10000401-1723302000-1723316400@siliconvalleyyouthbridge.org
SUMMARY:Pizza Party Tournament
DESCRIPTION:Summer Holiday PartyIndividual Game with Beginner and Open Sections\, with pizza\, prizes\, & ACBL masterpoints \n\n\n\nRead more about our Pizza Party Tournaments
URL:https://siliconvalleyyouthbridge.org/event/pizza-party-tournaments-4/
LOCATION:CA
CATEGORIES:Pizza Party
END:VEVENT
BEGIN:VEVENT
DTSTART;TZID=America/Los_Angeles:20241013T110000
DTEND;TZID=America/Los_Angeles:20241013T150000
DTSTAMP:20260425T034441
CREATED:20240908T191929Z
LAST-MODIFIED:20240908T192240Z
UID:10000406-1728817200-1728831600@siliconvalleyyouthbridge.org
SUMMARY:Halloween Pizza Party Tournament
DESCRIPTION:Sign-up here: https://siliconvalleyyouthbridge.org/pizza-party/
URL:https://siliconvalleyyouthbridge.org/event/halloween-pizza-party-tournament/
LOCATION:CA
CATEGORIES:Pizza Party
END:VEVENT
BEGIN:VEVENT
DTSTART;TZID=America/Los_Angeles:20241214T120000
DTEND;TZID=America/Los_Angeles:20241214T150000
DTSTAMP:20260425T034441
CREATED:20240908T192127Z
LAST-MODIFIED:20241210T203020Z
UID:10000407-1734177600-1734188400@siliconvalleyyouthbridge.org
SUMMARY:Winter Pizza Party Tournament
DESCRIPTION:We will host an individual game for all young players and a training special training session for players going to the 2024 Sam Amer Junior US Bridge Championships in late December \n\n\n\nPlease sign-up here: https://siliconvalleyyouthbridge.org/pizza-party/
URL:https://siliconvalleyyouthbridge.org/event/winter-pizza-party-tournament/
LOCATION:CA
CATEGORIES:Pizza Party
END:VEVENT
BEGIN:VEVENT
DTSTART;TZID=America/Los_Angeles:20250510T180000
DTEND;TZID=America/Los_Angeles:20250510T203000
DTSTAMP:20260425T034441
CREATED:20250425T054146Z
LAST-MODIFIED:20250707T001450Z
UID:10000513-1746900000-1746909000@siliconvalleyyouthbridge.org
SUMMARY:Spring Pizza Party Tournament
DESCRIPTION:Sign-up here: https://siliconvalleyyouthbridge.org/pizza-party/
URL:https://siliconvalleyyouthbridge.org/event/spring-pizza-party-tournament/
LOCATION:Bridge Center\, 432A Stierlin Road\, Mountain View\, CA\, 94043\, United States
CATEGORIES:Pizza Party
END:VEVENT
BEGIN:VEVENT
DTSTART;TZID=America/Los_Angeles:20250705T120000
DTEND;TZID=America/Los_Angeles:20250705T170000
DTSTAMP:20260425T034441
CREATED:20250528T032649Z
LAST-MODIFIED:20250528T032651Z
UID:10000514-1751716800-1751734800@siliconvalleyyouthbridge.org
SUMMARY:SiVY vs. CBE "Battle of the Bay"
DESCRIPTION:We are excited to announce the second annual SiVY vs. CBE “Battle of the Bay” Tournament. It will take place Saturday July 5th 12-5pm! CBE is the Center for Bridge Education\, our sister-organization in San Francisco. This is a great event for kids from both bridge organizations to meet each other and enjoy some friendly competition. \n\n\n\nWe will provide pizza for lunch and snacks. \n\n\n\nPlease sign-up here by June 21st: https://forms.gle/NYX7UfWHQ84E5bBV7Sign-up here: https://siliconvalleyyouthbridge.org/pizza-party/
URL:https://siliconvalleyyouthbridge.org/event/sivy-vs-cbe-battle-of-the-bay/
LOCATION:CA
CATEGORIES:Pizza Party
END:VEVENT
BEGIN:VEVENT
DTSTART;TZID=America/Los_Angeles:20251108T150000
DTEND;TZID=America/Los_Angeles:20251108T180000
DTSTAMP:20260425T034441
CREATED:20251111T195359Z
LAST-MODIFIED:20251111T195400Z
UID:10000516-1762614000-1762624800@siliconvalleyyouthbridge.org
SUMMARY:Fall/Winter Pizza Party Tournament
DESCRIPTION:Sign-up here: https://siliconvalleyyouthbridge.org/pizza-party/
URL:https://siliconvalleyyouthbridge.org/event/fall-winter-pizza-party-tournament/2025-11-08/
LOCATION:Bridge Center\, 432A Stierlin Road\, Mountain View\, CA\, 94043\, United States
CATEGORIES:Pizza Party
END:VEVENT
BEGIN:VEVENT
DTSTART;TZID=America/Los_Angeles:20251213T150000
DTEND;TZID=America/Los_Angeles:20251213T180000
DTSTAMP:20260425T034441
CREATED:20251111T195359Z
LAST-MODIFIED:20251111T195400Z
UID:10000517-1765638000-1765648800@siliconvalleyyouthbridge.org
SUMMARY:Fall/Winter Pizza Party Tournament
DESCRIPTION:Sign-up here: https://siliconvalleyyouthbridge.org/pizza-party/
URL:https://siliconvalleyyouthbridge.org/event/fall-winter-pizza-party-tournament/2025-12-13/
LOCATION:Bridge Center\, 432A Stierlin Road\, Mountain View\, CA\, 94043\, United States
CATEGORIES:Pizza Party
END:VEVENT
END:VCALENDAR