BEGIN:VCALENDAR
VERSION:2.0
PRODID:-//Silicon Valley Youth Bridge - ECPv6.15.20//NONSGML v1.0//EN
CALSCALE:GREGORIAN
METHOD:PUBLISH
X-ORIGINAL-URL:https://siliconvalleyyouthbridge.org
X-WR-CALDESC:Events for Silicon Valley Youth Bridge
REFRESH-INTERVAL;VALUE=DURATION:PT1H
X-Robots-Tag:noindex
X-PUBLISHED-TTL:PT1H
BEGIN:VTIMEZONE
TZID:America/Los_Angeles
BEGIN:DAYLIGHT
TZOFFSETFROM:-0800
TZOFFSETTO:-0700
TZNAME:PDT
DTSTART:20240310T100000
END:DAYLIGHT
BEGIN:STANDARD
TZOFFSETFROM:-0700
TZOFFSETTO:-0800
TZNAME:PST
DTSTART:20241103T090000
END:STANDARD
BEGIN:DAYLIGHT
TZOFFSETFROM:-0800
TZOFFSETTO:-0700
TZNAME:PDT
DTSTART:20250309T100000
END:DAYLIGHT
BEGIN:STANDARD
TZOFFSETFROM:-0700
TZOFFSETTO:-0800
TZNAME:PST
DTSTART:20251102T090000
END:STANDARD
BEGIN:DAYLIGHT
TZOFFSETFROM:-0800
TZOFFSETTO:-0700
TZNAME:PDT
DTSTART:20260308T100000
END:DAYLIGHT
BEGIN:STANDARD
TZOFFSETFROM:-0700
TZOFFSETTO:-0800
TZNAME:PST
DTSTART:20261101T090000
END:STANDARD
END:VTIMEZONE
BEGIN:VEVENT
DTSTART;TZID=America/Los_Angeles:20251108T150000
DTEND;TZID=America/Los_Angeles:20251108T180000
DTSTAMP:20260423T172108
CREATED:20251111T195359Z
LAST-MODIFIED:20251111T195400Z
UID:10000516-1762614000-1762624800@siliconvalleyyouthbridge.org
SUMMARY:Fall/Winter Pizza Party Tournament
DESCRIPTION:Sign-up here: https://siliconvalleyyouthbridge.org/pizza-party/
URL:https://siliconvalleyyouthbridge.org/event/fall-winter-pizza-party-tournament/2025-11-08/
LOCATION:Bridge Center\, 432A Stierlin Road\, Mountain View\, CA\, 94043\, United States
CATEGORIES:Pizza Party
END:VEVENT
BEGIN:VEVENT
DTSTART;TZID=America/Los_Angeles:20251213T150000
DTEND;TZID=America/Los_Angeles:20251213T180000
DTSTAMP:20260423T172108
CREATED:20251111T195359Z
LAST-MODIFIED:20251111T195400Z
UID:10000517-1765638000-1765648800@siliconvalleyyouthbridge.org
SUMMARY:Fall/Winter Pizza Party Tournament
DESCRIPTION:Sign-up here: https://siliconvalleyyouthbridge.org/pizza-party/
URL:https://siliconvalleyyouthbridge.org/event/fall-winter-pizza-party-tournament/2025-12-13/
LOCATION:Bridge Center\, 432A Stierlin Road\, Mountain View\, CA\, 94043\, United States
CATEGORIES:Pizza Party
END:VEVENT
END:VCALENDAR