BEGIN:VCALENDAR
VERSION:2.0
PRODID:-//Silicon Valley Youth Bridge - ECPv6.15.20//NONSGML v1.0//EN
CALSCALE:GREGORIAN
METHOD:PUBLISH
X-WR-CALNAME:Silicon Valley Youth Bridge
X-ORIGINAL-URL:https://siliconvalleyyouthbridge.org
X-WR-CALDESC:Events for Silicon Valley Youth Bridge
REFRESH-INTERVAL;VALUE=DURATION:PT1H
X-Robots-Tag:noindex
X-PUBLISHED-TTL:PT1H
BEGIN:VTIMEZONE
TZID:America/Los_Angeles
BEGIN:DAYLIGHT
TZOFFSETFROM:-0800
TZOFFSETTO:-0700
TZNAME:PDT
DTSTART:20200308T100000
END:DAYLIGHT
BEGIN:STANDARD
TZOFFSETFROM:-0700
TZOFFSETTO:-0800
TZNAME:PST
DTSTART:20201101T090000
END:STANDARD
BEGIN:DAYLIGHT
TZOFFSETFROM:-0800
TZOFFSETTO:-0700
TZNAME:PDT
DTSTART:20210314T100000
END:DAYLIGHT
BEGIN:STANDARD
TZOFFSETFROM:-0700
TZOFFSETTO:-0800
TZNAME:PST
DTSTART:20211107T090000
END:STANDARD
BEGIN:DAYLIGHT
TZOFFSETFROM:-0800
TZOFFSETTO:-0700
TZNAME:PDT
DTSTART:20220313T100000
END:DAYLIGHT
BEGIN:STANDARD
TZOFFSETFROM:-0700
TZOFFSETTO:-0800
TZNAME:PST
DTSTART:20221106T090000
END:STANDARD
BEGIN:DAYLIGHT
TZOFFSETFROM:-0800
TZOFFSETTO:-0700
TZNAME:PDT
DTSTART:20230312T100000
END:DAYLIGHT
BEGIN:STANDARD
TZOFFSETFROM:-0700
TZOFFSETTO:-0800
TZNAME:PST
DTSTART:20231105T090000
END:STANDARD
BEGIN:DAYLIGHT
TZOFFSETFROM:-0800
TZOFFSETTO:-0700
TZNAME:PDT
DTSTART:20240310T100000
END:DAYLIGHT
BEGIN:STANDARD
TZOFFSETFROM:-0700
TZOFFSETTO:-0800
TZNAME:PST
DTSTART:20241103T090000
END:STANDARD
END:VTIMEZONE
BEGIN:VEVENT
DTSTART;TZID=America/Los_Angeles:20231117T180000
DTEND;TZID=America/Los_Angeles:20231117T203000
DTSTAMP:20260425T083030
CREATED:20230924T225816Z
LAST-MODIFIED:20240708T081123Z
UID:10000085-1700244000-1700253000@siliconvalleyyouthbridge.org
SUMMARY:Casual Friday
DESCRIPTION:Join us every Friday for pizza\, snacks\, and some casual bridge! \n\n\n\nInformation and Signup \n\n\n\nPalo Alto Bridge Center link
URL:https://siliconvalleyyouthbridge.org/event/casual-friday/2023-11-17/
CATEGORIES:Casual Friday
ATTACH;FMTTYPE=image/jpeg:https://siliconvalleyyouthbridge.org/wp-content/uploads/Pages/casualfriday2.jpg
END:VEVENT
BEGIN:VEVENT
DTSTART;TZID=America/Los_Angeles:20231110T180000
DTEND;TZID=America/Los_Angeles:20231110T220000
DTSTAMP:20260425T083030
CREATED:20231011T033436Z
LAST-MODIFIED:20231011T033551Z
UID:10000084-1699639200-1699653600@siliconvalleyyouthbridge.org
SUMMARY:Casual Friday Free Open House
DESCRIPTION:Kids (ages 8-18) from 6-8pm \n\n\n\nYoung Adults (ages 18-30) from 8-10pm \n\n\n\nInformation and Signup \n\n\n\nPalo Alto Bridge Center link
URL:https://siliconvalleyyouthbridge.org/event/casual-friday-2/
CATEGORIES:Casual Friday
ATTACH;FMTTYPE=image/jpeg:https://siliconvalleyyouthbridge.org/wp-content/uploads/Pages/casualfriday2.jpg
END:VEVENT
BEGIN:VEVENT
DTSTART;TZID=America/Los_Angeles:20220403T100000
DTEND;TZID=America/Los_Angeles:20220403T180000
DTSTAMP:20260425T083030
CREATED:20220120T034143Z
LAST-MODIFIED:20220120T035107Z
UID:10000080-1648980000-1649008800@siliconvalleyyouthbridge.org
SUMMARY:8th Annual Bay Area High School Bridge Championship
DESCRIPTION:This year we will be having championship pairs where students must be from the same school and complimentary pairs where students can be from the same or different schools. \n\n\n\nFirst place championship pairs will receive $125 in gift cards each.  First place complimentary pairs will receive $75 in gift cards each.  Additional prizes based on number of participants. \n\n\n\nDeadline to register to receive a t-shirt is March 8th.  You may register after this date and will receive the rest of the SWAG aside from the t-shirt. \n\n\n\nInformation and Registration
URL:https://siliconvalleyyouthbridge.org/event/8th-annual-bay-area-high-school-bridge-championship/
LOCATION:Bridge Center\, 432A Stierlin Road\, Mountain View\, CA\, 94043\, United States
CATEGORIES:Other
ATTACH;FMTTYPE=image/jpeg:https://siliconvalleyyouthbridge.org/wp-content/uploads/HomePageSlider/2020-H.S.-Champions.jpg
END:VEVENT
BEGIN:VEVENT
DTSTART;TZID=America/Los_Angeles:20220219T093000
DTEND;TZID=America/Los_Angeles:20220220T170000
DTSTAMP:20260425T083030
CREATED:20220203T184950Z
LAST-MODIFIED:20220203T185428Z
UID:10000082-1645263000-1645376400@siliconvalleyyouthbridge.org
SUMMARY:Non-Life Master Sectional
DESCRIPTION:The Unit 503 Non-Life Master Sectional is fast approaching\, scheduled for Saturday and Sunday\, February 19 and 20\, 2022. The Unit 503 Board has temporarily suspended face-to-face play at the Palo Alto Bridge Center until February 14th. On that day\, the Board will decide whether to hold the NLM Sectional on the scheduled dates. \n\n\n\nIf you have not already signed up\, we urge you to do so soon. We have several tables filled and would love to see more of you join us. Selected players will receive a gift— sign up by February 11th to be included in the lottery. This face-to-face NLM Sectional (for non-life master players with less than 750 masterpoints) is scheduled to take place at the Palo Alto Bridge Club located at 432 Stierlin Rd.\, Mountain View\, CA 94043.  Phone (650) 940-1824. \n\n\n\nTwo sessions of Stratified Pairs will start at 9:30am and 2:00pm on Saturday and Sunday\, February 19 and 20.  A special newcomer section will be offered Saturday morning to players with less than 5 masterpoints.  All events award Silver Points.  \n\n\n\nAll players will need to be vaccinated and those eligible will need to be boosted.  All players will be required to wear masks in the Bridge Center.  Please note that we will not be serving food at the Sectional and we will not be offering bagged lunches. There is a water fountain and a cold drink vending machine. You can bring coffee/tea in your own thermos or mug. There are several sandwich spots close by. There will be plenty of time between events to purchase and eat your lunch.   \n\n\n\nInformation and signup:  https://paloaltobridge.org/non-life-master-sectional. \n\n\n\nThe Tournament and Partnerships Chairs are Dianne Giancarlo (diannegiancarlo@gmail.com) and Liz Koh (lizkoh4bridge@gmail.com) and the Director in Charge is Will Watson (watsonbridge@gmail.com). \n\n\n\nPlay bridge\, earn Silver Points\, reunite with your friends\, support your bridge club\, celebrate Presidents’ Day and have fun.  We hope to see you there.
URL:https://siliconvalleyyouthbridge.org/event/non-life-master-sectional/
LOCATION:Bridge Center\, 432A Stierlin Road\, Mountain View\, CA\, 94043\, United States
CATEGORIES:Other
ATTACH;FMTTYPE=image/jpeg:https://siliconvalleyyouthbridge.org/wp-content/uploads/2020/12/photo@0.5x.jpg
END:VEVENT
BEGIN:VEVENT
DTSTART;TZID=America/Los_Angeles:20220212T110000
DTEND;TZID=America/Los_Angeles:20220212T170000
DTSTAMP:20260425T083030
CREATED:20220126T040417Z
LAST-MODIFIED:20220126T041711Z
UID:10000081-1644663600-1644685200@siliconvalleyyouthbridge.org
SUMMARY:Red Point Youth Valentine Pairs
DESCRIPTION:Second annual Youth Online Bridge Valentine’s Day event.  Double points – half red\, half black.
URL:https://siliconvalleyyouthbridge.org/event/red-point-youth-valentine-pairs/
LOCATION:Bridge Center\, 432A Stierlin Road\, Mountain View\, CA\, 94043\, United States
CATEGORIES:Other
ATTACH;FMTTYPE=image/jpeg:https://siliconvalleyyouthbridge.org/wp-content/uploads/2022/02/61IJ6IVQxHL.__AC_SY300_SX300_QL70_ML2_.jpg
END:VEVENT
BEGIN:VEVENT
DTSTART;TZID=America/Los_Angeles:20211119T163000
DTEND;TZID=America/Los_Angeles:20211119T183000
DTSTAMP:20260425T083030
CREATED:20201010T023808Z
LAST-MODIFIED:20211027T005055Z
UID:10000072-1637339400-1637346600@siliconvalleyyouthbridge.org
SUMMARY:Casual Friday Online
DESCRIPTION:Held on BridgeBase and Discord. \n\n\n\nPlay with other Youth Players who have similar bridge experienceMentors will be hosting your table to answer questionsPlay with your favorite partner or meet someone new \n\n\n\nInfo and Signup
URL:https://siliconvalleyyouthbridge.org/event/casual-friday-online-3/2021-11-19/
CATEGORIES:Casual Friday
ATTACH;FMTTYPE=image/jpeg:https://siliconvalleyyouthbridge.org/wp-content/uploads/2020/11/20150522_195209@0.5x.jpg
END:VEVENT
BEGIN:VEVENT
DTSTART;TZID=America/Los_Angeles:20211105T163000
DTEND;TZID=America/Los_Angeles:20211105T183000
DTSTAMP:20260425T083030
CREATED:20201010T023808Z
LAST-MODIFIED:20211027T005055Z
UID:10000071-1636129800-1636137000@siliconvalleyyouthbridge.org
SUMMARY:Casual Friday Online
DESCRIPTION:Held on BridgeBase and Discord. \n\n\n\nPlay with other Youth Players who have similar bridge experienceMentors will be hosting your table to answer questionsPlay with your favorite partner or meet someone new \n\n\n\nInfo and Signup
URL:https://siliconvalleyyouthbridge.org/event/casual-friday-online-3/2021-11-05/
CATEGORIES:Casual Friday
ATTACH;FMTTYPE=image/jpeg:https://siliconvalleyyouthbridge.org/wp-content/uploads/2020/11/20150522_195209@0.5x.jpg
END:VEVENT
BEGIN:VEVENT
DTSTART;TZID=America/Los_Angeles:20211029T190000
DTEND;TZID=America/Los_Angeles:20211029T213000
DTSTAMP:20260425T083030
CREATED:20210927T041150Z
LAST-MODIFIED:20211010T191213Z
UID:10000079-1635534000-1635543000@siliconvalleyyouthbridge.org
SUMMARY:Seattle Youth for Bridge Tournament
DESCRIPTION:Hello Youth Bridge Players and Parents/Guardians.  Seattle’s Bridge 4 Youth is excited to host their annual Halloween Tournament! \n\n\n\nDate:                                 Friday\, October 29thTime:                                 7-9:30pm PDT (All players MUST sign on by 6:45pm)Prizes:                               Heck yeah! Section tops and Best Costume!Platform:                          RealBridge (link will be sent to all registered participants)Table Monitors:              Provided at each tableDirectors:                         Jeff Ford/Kim EngQuestions?                       Contact Kim Eng at kim.eng@b4youth.orgPost Mortem:                  Coaches will be available in breakout rooms after the tournament to go over hands and answer any questions\n\n\n\nRegister at B4Youth Halloween Tournament or download the flyer and use the registration link on it. \n\n\n\nHope to see you all there! \n\n\n\nCoach Kim \n\n\n\nHalloween-Youth-Bridge-Tournament-Registration-FlyerDownload
URL:https://siliconvalleyyouthbridge.org/event/seattle-youth-for-bridge-tournament/
CATEGORIES:Other
END:VEVENT
BEGIN:VEVENT
DTSTART;TZID=America/Los_Angeles:20211015T163000
DTEND;TZID=America/Los_Angeles:20211015T183000
DTSTAMP:20260425T083030
CREATED:20201010T023808Z
LAST-MODIFIED:20211027T005055Z
UID:10000070-1634315400-1634322600@siliconvalleyyouthbridge.org
SUMMARY:Casual Friday Online
DESCRIPTION:Held on BridgeBase and Discord. \n\n\n\nPlay with other Youth Players who have similar bridge experienceMentors will be hosting your table to answer questionsPlay with your favorite partner or meet someone new \n\n\n\nInfo and Signup
URL:https://siliconvalleyyouthbridge.org/event/casual-friday-online-3/2021-10-15/
CATEGORIES:Casual Friday
ATTACH;FMTTYPE=image/jpeg:https://siliconvalleyyouthbridge.org/wp-content/uploads/2020/11/20150522_195209@0.5x.jpg
END:VEVENT
BEGIN:VEVENT
DTSTART;TZID=America/Los_Angeles:20211001T163000
DTEND;TZID=America/Los_Angeles:20211001T183000
DTSTAMP:20260425T083030
CREATED:20201010T023808Z
LAST-MODIFIED:20211027T005055Z
UID:10000069-1633105800-1633113000@siliconvalleyyouthbridge.org
SUMMARY:Casual Friday Online
DESCRIPTION:Held on BridgeBase and Discord. \n\n\n\nPlay with other Youth Players who have similar bridge experienceMentors will be hosting your table to answer questionsPlay with your favorite partner or meet someone new \n\n\n\nInfo and Signup
URL:https://siliconvalleyyouthbridge.org/event/casual-friday-online-3/2021-10-01/
CATEGORIES:Casual Friday
ATTACH;FMTTYPE=image/jpeg:https://siliconvalleyyouthbridge.org/wp-content/uploads/2020/11/20150522_195209@0.5x.jpg
END:VEVENT
BEGIN:VEVENT
DTSTART;TZID=America/Los_Angeles:20210917T160000
DTEND;TZID=America/Los_Angeles:20210917T180000
DTSTAMP:20260425T083030
CREATED:20201010T023808Z
LAST-MODIFIED:20211027T005055Z
UID:10000068-1631894400-1631901600@siliconvalleyyouthbridge.org
SUMMARY:Casual Friday Online
DESCRIPTION:Held on BridgeBase and Discord. \n\n\n\nPlay with other Youth Players who have similar bridge experienceMentors will be hosting your table to answer questionsPlay with your favorite partner or meet someone new \n\n\n\nInfo and Signup
URL:https://siliconvalleyyouthbridge.org/event/casual-friday-online-3/2021-09-17/
CATEGORIES:Casual Friday
ATTACH;FMTTYPE=image/jpeg:https://siliconvalleyyouthbridge.org/wp-content/uploads/2020/11/20150522_195209@0.5x.jpg
END:VEVENT
BEGIN:VEVENT
DTSTART;TZID=America/Los_Angeles:20210903T160000
DTEND;TZID=America/Los_Angeles:20210903T180000
DTSTAMP:20260425T083030
CREATED:20201010T023808Z
LAST-MODIFIED:20211027T005055Z
UID:10000067-1630684800-1630692000@siliconvalleyyouthbridge.org
SUMMARY:Casual Friday Online
DESCRIPTION:Held on BridgeBase and Discord. \n\n\n\nPlay with other Youth Players who have similar bridge experienceMentors will be hosting your table to answer questionsPlay with your favorite partner or meet someone new \n\n\n\nInfo and Signup
URL:https://siliconvalleyyouthbridge.org/event/casual-friday-online-3/2021-09-03/
CATEGORIES:Casual Friday
ATTACH;FMTTYPE=image/jpeg:https://siliconvalleyyouthbridge.org/wp-content/uploads/2020/11/20150522_195209@0.5x.jpg
END:VEVENT
BEGIN:VEVENT
DTSTART;TZID=America/Los_Angeles:20210820T160000
DTEND;TZID=America/Los_Angeles:20210820T180000
DTSTAMP:20260425T083030
CREATED:20201010T023808Z
LAST-MODIFIED:20211027T005055Z
UID:10000066-1629475200-1629482400@siliconvalleyyouthbridge.org
SUMMARY:Casual Friday Online
DESCRIPTION:Held on BridgeBase and Discord. \n\n\n\nPlay with other Youth Players who have similar bridge experienceMentors will be hosting your table to answer questionsPlay with your favorite partner or meet someone new \n\n\n\nInfo and Signup
URL:https://siliconvalleyyouthbridge.org/event/casual-friday-online-3/2021-08-20/
CATEGORIES:Casual Friday
ATTACH;FMTTYPE=image/jpeg:https://siliconvalleyyouthbridge.org/wp-content/uploads/2020/11/20150522_195209@0.5x.jpg
END:VEVENT
BEGIN:VEVENT
DTSTART;TZID=America/Los_Angeles:20210806T160000
DTEND;TZID=America/Los_Angeles:20210806T180000
DTSTAMP:20260425T083030
CREATED:20201010T023808Z
LAST-MODIFIED:20211027T005055Z
UID:10000065-1628265600-1628272800@siliconvalleyyouthbridge.org
SUMMARY:Casual Friday Online
DESCRIPTION:Held on BridgeBase and Discord. \n\n\n\nPlay with other Youth Players who have similar bridge experienceMentors will be hosting your table to answer questionsPlay with your favorite partner or meet someone new \n\n\n\nInfo and Signup
URL:https://siliconvalleyyouthbridge.org/event/casual-friday-online-3/2021-08-06/
CATEGORIES:Casual Friday
ATTACH;FMTTYPE=image/jpeg:https://siliconvalleyyouthbridge.org/wp-content/uploads/2020/11/20150522_195209@0.5x.jpg
END:VEVENT
BEGIN:VEVENT
DTSTART;TZID=America/Los_Angeles:20210723T160000
DTEND;TZID=America/Los_Angeles:20210723T180000
DTSTAMP:20260425T083030
CREATED:20201010T023808Z
LAST-MODIFIED:20211027T005055Z
UID:10000064-1627056000-1627063200@siliconvalleyyouthbridge.org
SUMMARY:Casual Friday Online
DESCRIPTION:Held on BridgeBase and Discord. \n\n\n\nPlay with other Youth Players who have similar bridge experienceMentors will be hosting your table to answer questionsPlay with your favorite partner or meet someone new \n\n\n\nInfo and Signup
URL:https://siliconvalleyyouthbridge.org/event/casual-friday-online-3/2021-07-23/
CATEGORIES:Casual Friday
ATTACH;FMTTYPE=image/jpeg:https://siliconvalleyyouthbridge.org/wp-content/uploads/2020/11/20150522_195209@0.5x.jpg
END:VEVENT
BEGIN:VEVENT
DTSTART;TZID=America/Los_Angeles:20210709T160000
DTEND;TZID=America/Los_Angeles:20210709T180000
DTSTAMP:20260425T083030
CREATED:20201010T023808Z
LAST-MODIFIED:20211027T005055Z
UID:10000063-1625846400-1625853600@siliconvalleyyouthbridge.org
SUMMARY:Casual Friday Online
DESCRIPTION:Held on BridgeBase and Discord. \n\n\n\nPlay with other Youth Players who have similar bridge experienceMentors will be hosting your table to answer questionsPlay with your favorite partner or meet someone new \n\n\n\nInfo and Signup
URL:https://siliconvalleyyouthbridge.org/event/casual-friday-online-3/2021-07-09/
CATEGORIES:Casual Friday
ATTACH;FMTTYPE=image/jpeg:https://siliconvalleyyouthbridge.org/wp-content/uploads/2020/11/20150522_195209@0.5x.jpg
END:VEVENT
BEGIN:VEVENT
DTSTART;TZID=America/Los_Angeles:20210625T160000
DTEND;TZID=America/Los_Angeles:20210625T180000
DTSTAMP:20260425T083030
CREATED:20201005T144820Z
LAST-MODIFIED:20210620T200131Z
UID:10000047-1624636800-1624644000@siliconvalleyyouthbridge.org
SUMMARY:Virtual Pizza Party
DESCRIPTION:Held on BridgeBase and Discord \n\n\n\nDuplicate Tournament with two sections\, one for more experienced and one for less experienced players.Winners get a $10 gift card!Participants must have at least a little bit of prior bridge experience and have a BBO membership (free). View BBO tutorial videoSignup required\n\n\n\nInfo and Signup
URL:https://siliconvalleyyouthbridge.org/event/virtual-pizza-party/2021-06-25/
CATEGORIES:Pizza Party
ATTACH;FMTTYPE=image/jpeg:https://siliconvalleyyouthbridge.org/wp-content/uploads/2020/11/virtualpizzaaldwyn-scaled.jpg
END:VEVENT
BEGIN:VEVENT
DTSTART;TZID=America/Los_Angeles:20210611T160000
DTEND;TZID=America/Los_Angeles:20210611T180000
DTSTAMP:20260425T083030
CREATED:20201010T023808Z
LAST-MODIFIED:20211027T005055Z
UID:10000062-1623427200-1623434400@siliconvalleyyouthbridge.org
SUMMARY:Casual Friday Online
DESCRIPTION:Held on BridgeBase and Discord. \n\n\n\nPlay with other Youth Players who have similar bridge experienceMentors will be hosting your table to answer questionsPlay with your favorite partner or meet someone new \n\n\n\nInfo and Signup
URL:https://siliconvalleyyouthbridge.org/event/casual-friday-online-3/2021-06-11/
CATEGORIES:Casual Friday
ATTACH;FMTTYPE=image/jpeg:https://siliconvalleyyouthbridge.org/wp-content/uploads/2020/11/20150522_195209@0.5x.jpg
END:VEVENT
BEGIN:VEVENT
DTSTART;TZID=America/Los_Angeles:20210528T160000
DTEND;TZID=America/Los_Angeles:20210528T180000
DTSTAMP:20260425T083030
CREATED:20201010T023808Z
LAST-MODIFIED:20211027T005055Z
UID:10000061-1622217600-1622224800@siliconvalleyyouthbridge.org
SUMMARY:Casual Friday Online
DESCRIPTION:Held on BridgeBase and Discord. \n\n\n\nPlay with other Youth Players who have similar bridge experienceMentors will be hosting your table to answer questionsPlay with your favorite partner or meet someone new \n\n\n\nInfo and Signup
URL:https://siliconvalleyyouthbridge.org/event/casual-friday-online-3/2021-05-28/
CATEGORIES:Casual Friday
ATTACH;FMTTYPE=image/jpeg:https://siliconvalleyyouthbridge.org/wp-content/uploads/2020/11/20150522_195209@0.5x.jpg
END:VEVENT
BEGIN:VEVENT
DTSTART;TZID=America/Los_Angeles:20210516T130000
DTEND;TZID=America/Los_Angeles:20210516T153000
DTSTAMP:20260425T083030
CREATED:20210429T151434Z
LAST-MODIFIED:20210515T020627Z
UID:10000078-1621170000-1621179000@siliconvalleyyouthbridge.org
SUMMARY:Seattle Spring Online Youth Bridge Tournament
DESCRIPTION:All students grades 4-12 in the USA and Canada are welcome to participate. This tournament is sponsored  by B4Y and is provided at no cost to the students.  Prizes will be awarded. \n\n\n\nRegister for this event.
URL:https://siliconvalleyyouthbridge.org/event/seattle-spring-online-youth-bridge-tournament/
CATEGORIES:Other
END:VEVENT
BEGIN:VEVENT
DTSTART;TZID=America/Los_Angeles:20210514T160000
DTEND;TZID=America/Los_Angeles:20210514T180000
DTSTAMP:20260425T083030
CREATED:20201010T023808Z
LAST-MODIFIED:20211027T005055Z
UID:10000060-1621008000-1621015200@siliconvalleyyouthbridge.org
SUMMARY:Casual Friday Online
DESCRIPTION:Held on BridgeBase and Discord. \n\n\n\nPlay with other Youth Players who have similar bridge experienceMentors will be hosting your table to answer questionsPlay with your favorite partner or meet someone new \n\n\n\nInfo and Signup
URL:https://siliconvalleyyouthbridge.org/event/casual-friday-online-3/2021-05-14/
CATEGORIES:Casual Friday
ATTACH;FMTTYPE=image/jpeg:https://siliconvalleyyouthbridge.org/wp-content/uploads/2020/11/20150522_195209@0.5x.jpg
END:VEVENT
BEGIN:VEVENT
DTSTART;TZID=America/Los_Angeles:20210430T160000
DTEND;TZID=America/Los_Angeles:20210430T180000
DTSTAMP:20260425T083030
CREATED:20201010T023808Z
LAST-MODIFIED:20211027T005055Z
UID:10000059-1619798400-1619805600@siliconvalleyyouthbridge.org
SUMMARY:Casual Friday Online
DESCRIPTION:Held on BridgeBase and Discord. \n\n\n\nPlay with other Youth Players who have similar bridge experienceMentors will be hosting your table to answer questionsPlay with your favorite partner or meet someone new \n\n\n\nInfo and Signup
URL:https://siliconvalleyyouthbridge.org/event/casual-friday-online-3/2021-04-30/
CATEGORIES:Casual Friday
ATTACH;FMTTYPE=image/jpeg:https://siliconvalleyyouthbridge.org/wp-content/uploads/2020/11/20150522_195209@0.5x.jpg
END:VEVENT
BEGIN:VEVENT
DTSTART;TZID=America/Los_Angeles:20210416T160000
DTEND;TZID=America/Los_Angeles:20210416T180000
DTSTAMP:20260425T083030
CREATED:20201010T023808Z
LAST-MODIFIED:20211027T005055Z
UID:10000058-1618588800-1618596000@siliconvalleyyouthbridge.org
SUMMARY:Casual Friday Online
DESCRIPTION:Held on BridgeBase and Discord. \n\n\n\nPlay with other Youth Players who have similar bridge experienceMentors will be hosting your table to answer questionsPlay with your favorite partner or meet someone new \n\n\n\nInfo and Signup
URL:https://siliconvalleyyouthbridge.org/event/casual-friday-online-3/2021-04-16/
CATEGORIES:Casual Friday
ATTACH;FMTTYPE=image/jpeg:https://siliconvalleyyouthbridge.org/wp-content/uploads/2020/11/20150522_195209@0.5x.jpg
END:VEVENT
BEGIN:VEVENT
DTSTART;TZID=America/Los_Angeles:20210402T160000
DTEND;TZID=America/Los_Angeles:20210402T180000
DTSTAMP:20260425T083030
CREATED:20201005T144820Z
LAST-MODIFIED:20210620T200131Z
UID:10000046-1617379200-1617386400@siliconvalleyyouthbridge.org
SUMMARY:Virtual Pizza Party
DESCRIPTION:Held on BridgeBase and Discord \n\n\n\nDuplicate Tournament with two sections\, one for more experienced and one for less experienced players.Winners get a $10 gift card!Participants must have at least a little bit of prior bridge experience and have a BBO membership (free). View BBO tutorial videoSignup required\n\n\n\nInfo and Signup
URL:https://siliconvalleyyouthbridge.org/event/virtual-pizza-party/2021-04-02/
CATEGORIES:Pizza Party
ATTACH;FMTTYPE=image/jpeg:https://siliconvalleyyouthbridge.org/wp-content/uploads/2020/11/virtualpizzaaldwyn-scaled.jpg
END:VEVENT
BEGIN:VEVENT
DTSTART;TZID=America/Los_Angeles:20210327T103000
DTEND;TZID=America/Los_Angeles:20210327T180000
DTSTAMP:20260425T083030
CREATED:20210220T042559Z
LAST-MODIFIED:20220212T054715Z
UID:10000077-1616841000-1616868000@siliconvalleyyouthbridge.org
SUMMARY:7th Annual Bay Area High School Bridge Championship
DESCRIPTION:Would you like to have a chance to win a large trophy for your high school\, as well as a prepaid gift card? Then join other young bridge players seeking prizes and American Contract Bridge League (ACBL) masterpoints at this year’s Bay Area High School Bridge Championship. Entry is free. \n\n\n\nTeam and Pair events. \n\n\n\nInformation and Registration
URL:https://siliconvalleyyouthbridge.org/event/7th-annual-bay-area-high-school-bridge-championship/
LOCATION:Bridge Center\, 432A Stierlin Road\, Mountain View\, CA\, 94043\, United States
CATEGORIES:Other
END:VEVENT
BEGIN:VEVENT
DTSTART;TZID=America/Los_Angeles:20210319T160000
DTEND;TZID=America/Los_Angeles:20210319T180000
DTSTAMP:20260425T083030
CREATED:20201010T023808Z
LAST-MODIFIED:20211027T005055Z
UID:10000057-1616169600-1616176800@siliconvalleyyouthbridge.org
SUMMARY:Casual Friday Online
DESCRIPTION:Held on BridgeBase and Discord. \n\n\n\nPlay with other Youth Players who have similar bridge experienceMentors will be hosting your table to answer questionsPlay with your favorite partner or meet someone new \n\n\n\nInfo and Signup
URL:https://siliconvalleyyouthbridge.org/event/casual-friday-online-3/2021-03-19/
CATEGORIES:Casual Friday
ATTACH;FMTTYPE=image/jpeg:https://siliconvalleyyouthbridge.org/wp-content/uploads/2020/11/20150522_195209@0.5x.jpg
END:VEVENT
BEGIN:VEVENT
DTSTART;TZID=America/Los_Angeles:20210305T160000
DTEND;TZID=America/Los_Angeles:20210305T180000
DTSTAMP:20260425T083030
CREATED:20201010T023808Z
LAST-MODIFIED:20211027T005055Z
UID:10000056-1614960000-1614967200@siliconvalleyyouthbridge.org
SUMMARY:Casual Friday Online
DESCRIPTION:Held on BridgeBase and Discord. \n\n\n\nPlay with other Youth Players who have similar bridge experienceMentors will be hosting your table to answer questionsPlay with your favorite partner or meet someone new \n\n\n\nInfo and Signup
URL:https://siliconvalleyyouthbridge.org/event/casual-friday-online-3/2021-03-05/
CATEGORIES:Casual Friday
ATTACH;FMTTYPE=image/jpeg:https://siliconvalleyyouthbridge.org/wp-content/uploads/2020/11/20150522_195209@0.5x.jpg
END:VEVENT
BEGIN:VEVENT
DTSTART;TZID=America/Los_Angeles:20210219T160000
DTEND;TZID=America/Los_Angeles:20210219T180000
DTSTAMP:20260425T083030
CREATED:20201010T023808Z
LAST-MODIFIED:20211027T005055Z
UID:10000055-1613750400-1613757600@siliconvalleyyouthbridge.org
SUMMARY:Casual Friday Online
DESCRIPTION:Held on BridgeBase and Discord. \n\n\n\nPlay with other Youth Players who have similar bridge experienceMentors will be hosting your table to answer questionsPlay with your favorite partner or meet someone new \n\n\n\nInfo and Signup
URL:https://siliconvalleyyouthbridge.org/event/casual-friday-online-3/2021-02-19/
CATEGORIES:Casual Friday
ATTACH;FMTTYPE=image/jpeg:https://siliconvalleyyouthbridge.org/wp-content/uploads/2020/11/20150522_195209@0.5x.jpg
END:VEVENT
BEGIN:VEVENT
DTSTART;TZID=America/Los_Angeles:20210205T160000
DTEND;TZID=America/Los_Angeles:20210205T180000
DTSTAMP:20260425T083030
CREATED:20201010T023808Z
LAST-MODIFIED:20211027T005055Z
UID:10000054-1612540800-1612548000@siliconvalleyyouthbridge.org
SUMMARY:Casual Friday Online
DESCRIPTION:Held on BridgeBase and Discord. \n\n\n\nPlay with other Youth Players who have similar bridge experienceMentors will be hosting your table to answer questionsPlay with your favorite partner or meet someone new \n\n\n\nInfo and Signup
URL:https://siliconvalleyyouthbridge.org/event/casual-friday-online-3/2021-02-05/
CATEGORIES:Casual Friday
ATTACH;FMTTYPE=image/jpeg:https://siliconvalleyyouthbridge.org/wp-content/uploads/2020/11/20150522_195209@0.5x.jpg
END:VEVENT
BEGIN:VEVENT
DTSTART;TZID=America/Los_Angeles:20210122T160000
DTEND;TZID=America/Los_Angeles:20210122T180000
DTSTAMP:20260425T083030
CREATED:20201005T144820Z
LAST-MODIFIED:20210620T200131Z
UID:10000045-1611331200-1611338400@siliconvalleyyouthbridge.org
SUMMARY:Virtual Pizza Party
DESCRIPTION:Held on BridgeBase and Discord \n\n\n\nDuplicate Tournament with two sections\, one for more experienced and one for less experienced players.Winners get a $10 gift card!Participants must have at least a little bit of prior bridge experience and have a BBO membership (free). View BBO tutorial videoSignup required\n\n\n\nInfo and Signup
URL:https://siliconvalleyyouthbridge.org/event/virtual-pizza-party/2021-01-22/
CATEGORIES:Pizza Party
ATTACH;FMTTYPE=image/jpeg:https://siliconvalleyyouthbridge.org/wp-content/uploads/2020/11/virtualpizzaaldwyn-scaled.jpg
END:VEVENT
END:VCALENDAR