BEGIN:VCALENDAR
VERSION:2.0
PRODID:-//Silicon Valley Youth Bridge - ECPv6.15.20//NONSGML v1.0//EN
CALSCALE:GREGORIAN
METHOD:PUBLISH
X-WR-CALNAME:Silicon Valley Youth Bridge
X-ORIGINAL-URL:https://siliconvalleyyouthbridge.org
X-WR-CALDESC:Events for Silicon Valley Youth Bridge
REFRESH-INTERVAL;VALUE=DURATION:PT1H
X-Robots-Tag:noindex
X-PUBLISHED-TTL:PT1H
BEGIN:VTIMEZONE
TZID:America/Los_Angeles
BEGIN:DAYLIGHT
TZOFFSETFROM:-0800
TZOFFSETTO:-0700
TZNAME:PDT
DTSTART:20230312T100000
END:DAYLIGHT
BEGIN:STANDARD
TZOFFSETFROM:-0700
TZOFFSETTO:-0800
TZNAME:PST
DTSTART:20231105T090000
END:STANDARD
BEGIN:DAYLIGHT
TZOFFSETFROM:-0800
TZOFFSETTO:-0700
TZNAME:PDT
DTSTART:20240310T100000
END:DAYLIGHT
BEGIN:STANDARD
TZOFFSETFROM:-0700
TZOFFSETTO:-0800
TZNAME:PST
DTSTART:20241103T090000
END:STANDARD
BEGIN:DAYLIGHT
TZOFFSETFROM:-0800
TZOFFSETTO:-0700
TZNAME:PDT
DTSTART:20250309T100000
END:DAYLIGHT
BEGIN:STANDARD
TZOFFSETFROM:-0700
TZOFFSETTO:-0800
TZNAME:PST
DTSTART:20251102T090000
END:STANDARD
END:VTIMEZONE
BEGIN:VEVENT
DTSTART;TZID=America/Los_Angeles:20240810T150000
DTEND;TZID=America/Los_Angeles:20240810T190000
DTSTAMP:20260425T052245
CREATED:20240121T052248Z
LAST-MODIFIED:20250329T000634Z
UID:10000401-1723302000-1723316400@siliconvalleyyouthbridge.org
SUMMARY:Pizza Party Tournament
DESCRIPTION:Summer Holiday PartyIndividual Game with Beginner and Open Sections\, with pizza\, prizes\, & ACBL masterpoints \n\n\n\nRead more about our Pizza Party Tournaments
URL:https://siliconvalleyyouthbridge.org/event/pizza-party-tournaments-4/
CATEGORIES:Pizza Party
END:VEVENT
BEGIN:VEVENT
DTSTART;TZID=America/Los_Angeles:20240809T180000
DTEND;TZID=America/Los_Angeles:20240809T203000
DTSTAMP:20260425T052245
CREATED:20230924T225816Z
LAST-MODIFIED:20240708T081123Z
UID:10000374-1723226400-1723235400@siliconvalleyyouthbridge.org
SUMMARY:Casual Friday
DESCRIPTION:Join us every Friday for pizza\, snacks\, and some casual bridge! \n\n\n\nInformation and Signup \n\n\n\nPalo Alto Bridge Center link
URL:https://siliconvalleyyouthbridge.org/event/casual-friday/2024-08-09/
CATEGORIES:Casual Friday
ATTACH;FMTTYPE=image/jpeg:https://siliconvalleyyouthbridge.org/wp-content/uploads/Pages/casualfriday2.jpg
END:VEVENT
BEGIN:VEVENT
DTSTART;TZID=America/Los_Angeles:20240802T180000
DTEND;TZID=America/Los_Angeles:20240802T203000
DTSTAMP:20260425T052245
CREATED:20230924T225816Z
LAST-MODIFIED:20240708T081123Z
UID:10000373-1722621600-1722630600@siliconvalleyyouthbridge.org
SUMMARY:Casual Friday
DESCRIPTION:Join us every Friday for pizza\, snacks\, and some casual bridge! \n\n\n\nInformation and Signup \n\n\n\nPalo Alto Bridge Center link
URL:https://siliconvalleyyouthbridge.org/event/casual-friday/2024-08-02/
CATEGORIES:Casual Friday
ATTACH;FMTTYPE=image/jpeg:https://siliconvalleyyouthbridge.org/wp-content/uploads/Pages/casualfriday2.jpg
END:VEVENT
BEGIN:VEVENT
DTSTART;TZID=America/Los_Angeles:20240725T000000
DTEND;TZID=America/Los_Angeles:20240727T235959
DTSTAMP:20260425T052245
CREATED:20240708T081804Z
LAST-MODIFIED:20240708T081836Z
UID:10000405-1721865600-1722124799@siliconvalleyyouthbridge.org
SUMMARY:Youth North American Bridge Championships (NABC) - Toronto
DESCRIPTION:Annual biggest youth bridge tournament for all of North America: https://www.acbl.org/portfolio/ynabc/
URL:https://siliconvalleyyouthbridge.org/event/youth-north-american-bridge-championships-nabc-toronto/
LOCATION:Palo Alto Bridge Center\, 432A Stierlin Road\, Mountain View\, CA\, 94039\, United States
END:VEVENT
BEGIN:VEVENT
DTSTART;TZID=America/Los_Angeles:20240712T183000
DTEND;TZID=America/Los_Angeles:20240712T210000
DTSTAMP:20260425T052245
CREATED:20240708T081005Z
LAST-MODIFIED:20240708T081242Z
UID:10000404-1720809000-1720818000@siliconvalleyyouthbridge.org
SUMMARY:Casual Friday
DESCRIPTION:Moved 30 minutes later due to Firecracker sectional \n\n\n\n \n\n\n\nInformation and Signup \n\n\n\nPalo Alto Bridge Center link
URL:https://siliconvalleyyouthbridge.org/event/casual-friday-5/
CATEGORIES:Casual Friday
ATTACH;FMTTYPE=image/jpeg:https://siliconvalleyyouthbridge.org/wp-content/uploads/Pages/casualfriday2.jpg
END:VEVENT
BEGIN:VEVENT
DTSTART;TZID=America/Los_Angeles:20240710T000000
DTEND;TZID=America/Los_Angeles:20240714T235959
DTSTAMP:20260425T052245
CREATED:20240121T050512Z
LAST-MODIFIED:20240708T081649Z
UID:10000396-1720569600-1721001599@siliconvalleyyouthbridge.org
SUMMARY:Firecracker Sectional
DESCRIPTION:Beginner games every day at 10am \n\n\n\nSectional Tournament Information: https://paloaltobridge.org/firecracker/
URL:https://siliconvalleyyouthbridge.org/event/firecracker-sectional-0-20-game/
LOCATION:Palo Alto Bridge Center\, 432A Stierlin Road\, Mountain View\, CA\, 94039\, United States
END:VEVENT
BEGIN:VEVENT
DTSTART;TZID=America/Los_Angeles:20240706T120000
DTEND;TZID=America/Los_Angeles:20240706T160000
DTSTAMP:20260425T052245
CREATED:20240121T050840Z
LAST-MODIFIED:20240520T182541Z
UID:10000397-1720267200-1720281600@siliconvalleyyouthbridge.org
SUMMARY:CBE vs SiVY Tournament
DESCRIPTION:Palo Alto Bridge Center
URL:https://siliconvalleyyouthbridge.org/event/cbe-vs-sivy-tournament/
CATEGORIES:Pizza Party
END:VEVENT
BEGIN:VEVENT
DTSTART;TZID=America/Los_Angeles:20240705T180000
DTEND;TZID=America/Los_Angeles:20240705T203000
DTSTAMP:20260425T052245
CREATED:20230924T225816Z
LAST-MODIFIED:20240708T081123Z
UID:10000371-1720202400-1720211400@siliconvalleyyouthbridge.org
SUMMARY:Casual Friday
DESCRIPTION:Join us every Friday for pizza\, snacks\, and some casual bridge! \n\n\n\nInformation and Signup \n\n\n\nPalo Alto Bridge Center link
URL:https://siliconvalleyyouthbridge.org/event/casual-friday/2024-07-05/
CATEGORIES:Casual Friday
ATTACH;FMTTYPE=image/jpeg:https://siliconvalleyyouthbridge.org/wp-content/uploads/Pages/casualfriday2.jpg
END:VEVENT
BEGIN:VEVENT
DTSTART;TZID=America/Los_Angeles:20240630T130000
DTEND;TZID=America/Los_Angeles:20240630T180000
DTSTAMP:20260425T052245
CREATED:20240121T044516Z
LAST-MODIFIED:20240121T155832Z
UID:10000402-1719752400-1719770400@siliconvalleyyouthbridge.org
SUMMARY:Summer Camp
DESCRIPTION:Bridge Camp is a fun and educational experience for new and experienced players! We have different tracks tailored to our players’ experience levels. Brand new players can learn enough bridge to compete in their first tournament by the end of camp. Those with experience improve their skills through instruction from world class youth and adult teachers.\n\n\n\n\nInformation and registration.
URL:https://siliconvalleyyouthbridge.org/event/summer-camp/2024-06-30/
LOCATION:Palo Alto Bridge Center\, 432A Stierlin Road\, Mountain View\, CA\, 94039\, United States
CATEGORIES:Other
END:VEVENT
BEGIN:VEVENT
DTSTART;TZID=America/Los_Angeles:20240629T130000
DTEND;TZID=America/Los_Angeles:20240629T180000
DTSTAMP:20260425T052245
CREATED:20240121T044516Z
LAST-MODIFIED:20240121T155832Z
UID:10000395-1719666000-1719684000@siliconvalleyyouthbridge.org
SUMMARY:Summer Camp
DESCRIPTION:Bridge Camp is a fun and educational experience for new and experienced players! We have different tracks tailored to our players’ experience levels. Brand new players can learn enough bridge to compete in their first tournament by the end of camp. Those with experience improve their skills through instruction from world class youth and adult teachers.\n\n\n\n\nInformation and registration.
URL:https://siliconvalleyyouthbridge.org/event/summer-camp/2024-06-29/
LOCATION:Palo Alto Bridge Center\, 432A Stierlin Road\, Mountain View\, CA\, 94039\, United States
CATEGORIES:Other
END:VEVENT
BEGIN:VEVENT
DTSTART;TZID=America/Los_Angeles:20240628T180000
DTEND;TZID=America/Los_Angeles:20240628T203000
DTSTAMP:20260425T052245
CREATED:20230924T225816Z
LAST-MODIFIED:20240708T081123Z
UID:10000370-1719597600-1719606600@siliconvalleyyouthbridge.org
SUMMARY:Casual Friday
DESCRIPTION:Join us every Friday for pizza\, snacks\, and some casual bridge! \n\n\n\nInformation and Signup \n\n\n\nPalo Alto Bridge Center link
URL:https://siliconvalleyyouthbridge.org/event/casual-friday/2024-06-28/
CATEGORIES:Casual Friday
ATTACH;FMTTYPE=image/jpeg:https://siliconvalleyyouthbridge.org/wp-content/uploads/Pages/casualfriday2.jpg
END:VEVENT
BEGIN:VEVENT
DTSTART;TZID=America/Los_Angeles:20240623T130000
DTEND;TZID=America/Los_Angeles:20240623T180000
DTSTAMP:20260425T052245
CREATED:20240121T044516Z
LAST-MODIFIED:20240121T155832Z
UID:10000394-1719147600-1719165600@siliconvalleyyouthbridge.org
SUMMARY:Summer Camp
DESCRIPTION:Bridge Camp is a fun and educational experience for new and experienced players! We have different tracks tailored to our players’ experience levels. Brand new players can learn enough bridge to compete in their first tournament by the end of camp. Those with experience improve their skills through instruction from world class youth and adult teachers.\n\n\n\n\nInformation and registration.
URL:https://siliconvalleyyouthbridge.org/event/summer-camp/2024-06-23/
LOCATION:Palo Alto Bridge Center\, 432A Stierlin Road\, Mountain View\, CA\, 94039\, United States
CATEGORIES:Other
END:VEVENT
BEGIN:VEVENT
DTSTART;TZID=America/Los_Angeles:20240622T130000
DTEND;TZID=America/Los_Angeles:20240622T180000
DTSTAMP:20260425T052245
CREATED:20240121T044516Z
LAST-MODIFIED:20240121T155832Z
UID:10000391-1719061200-1719079200@siliconvalleyyouthbridge.org
SUMMARY:Summer Camp
DESCRIPTION:Bridge Camp is a fun and educational experience for new and experienced players! We have different tracks tailored to our players’ experience levels. Brand new players can learn enough bridge to compete in their first tournament by the end of camp. Those with experience improve their skills through instruction from world class youth and adult teachers.\n\n\n\n\nInformation and registration.
URL:https://siliconvalleyyouthbridge.org/event/summer-camp/2024-06-22/
LOCATION:Palo Alto Bridge Center\, 432A Stierlin Road\, Mountain View\, CA\, 94039\, United States
CATEGORIES:Other
END:VEVENT
BEGIN:VEVENT
DTSTART;TZID=America/Los_Angeles:20240621T180000
DTEND;TZID=America/Los_Angeles:20240621T203000
DTSTAMP:20260425T052245
CREATED:20230924T225816Z
LAST-MODIFIED:20240708T081123Z
UID:10000369-1718992800-1719001800@siliconvalleyyouthbridge.org
SUMMARY:Casual Friday
DESCRIPTION:Join us every Friday for pizza\, snacks\, and some casual bridge! \n\n\n\nInformation and Signup \n\n\n\nPalo Alto Bridge Center link
URL:https://siliconvalleyyouthbridge.org/event/casual-friday/2024-06-21/
CATEGORIES:Casual Friday
ATTACH;FMTTYPE=image/jpeg:https://siliconvalleyyouthbridge.org/wp-content/uploads/Pages/casualfriday2.jpg
END:VEVENT
BEGIN:VEVENT
DTSTART;TZID=America/Los_Angeles:20240616T110000
DTEND;TZID=America/Los_Angeles:20240616T150000
DTSTAMP:20260425T052245
CREATED:20240121T052108Z
LAST-MODIFIED:20250329T000542Z
UID:10000400-1718535600-1718550000@siliconvalleyyouthbridge.org
SUMMARY:Pizza Party Tournament
DESCRIPTION:This tournament will be a duplicate game with ACBL masterpoints awarded. This special tournament is for family members to play together\, regardless of experience or skill level! Intergenerational partnerships and beginners are highly encouraged to attend!  Depending on sign-ups\, we may split up into different sections.  There is a $5 entry fee that includes pizza lunch and other refreshments. \n\n\n\nDon’t have a family-member partner? It is okay to play with a non-family member if you cannot recruit one to play with you. You have to try first though! It is okay if they have never played bridge before. \n\n\n\nNot ready for tournament play? We will have volunteers available to work with new players at a teaching table. \n\n\n\n>>> SIGN-UP HERE (bottom of page)! <<< \n\n\n\nRead more about our Pizza Party Tournaments
URL:https://siliconvalleyyouthbridge.org/event/pizza-party-tournaments-3/
CATEGORIES:Pizza Party
END:VEVENT
BEGIN:VEVENT
DTSTART;TZID=America/Los_Angeles:20240614T180000
DTEND;TZID=America/Los_Angeles:20240614T203000
DTSTAMP:20260425T052245
CREATED:20230924T225816Z
LAST-MODIFIED:20240708T081123Z
UID:10000368-1718388000-1718397000@siliconvalleyyouthbridge.org
SUMMARY:Casual Friday
DESCRIPTION:Join us every Friday for pizza\, snacks\, and some casual bridge! \n\n\n\nInformation and Signup \n\n\n\nPalo Alto Bridge Center link
URL:https://siliconvalleyyouthbridge.org/event/casual-friday/2024-06-14/
CATEGORIES:Casual Friday
ATTACH;FMTTYPE=image/jpeg:https://siliconvalleyyouthbridge.org/wp-content/uploads/Pages/casualfriday2.jpg
END:VEVENT
BEGIN:VEVENT
DTSTART;TZID=America/Los_Angeles:20240607T180000
DTEND;TZID=America/Los_Angeles:20240607T203000
DTSTAMP:20260425T052245
CREATED:20230924T225816Z
LAST-MODIFIED:20240708T081123Z
UID:10000367-1717783200-1717792200@siliconvalleyyouthbridge.org
SUMMARY:Casual Friday
DESCRIPTION:Join us every Friday for pizza\, snacks\, and some casual bridge! \n\n\n\nInformation and Signup \n\n\n\nPalo Alto Bridge Center link
URL:https://siliconvalleyyouthbridge.org/event/casual-friday/2024-06-07/
CATEGORIES:Casual Friday
ATTACH;FMTTYPE=image/jpeg:https://siliconvalleyyouthbridge.org/wp-content/uploads/Pages/casualfriday2.jpg
END:VEVENT
BEGIN:VEVENT
DTSTART;TZID=America/Los_Angeles:20240524T180000
DTEND;TZID=America/Los_Angeles:20240524T203000
DTSTAMP:20260425T052245
CREATED:20230924T225816Z
LAST-MODIFIED:20240708T081123Z
UID:10000366-1716573600-1716582600@siliconvalleyyouthbridge.org
SUMMARY:Casual Friday
DESCRIPTION:Join us every Friday for pizza\, snacks\, and some casual bridge! \n\n\n\nInformation and Signup \n\n\n\nPalo Alto Bridge Center link
URL:https://siliconvalleyyouthbridge.org/event/casual-friday/2024-05-24/
CATEGORIES:Casual Friday
ATTACH;FMTTYPE=image/jpeg:https://siliconvalleyyouthbridge.org/wp-content/uploads/Pages/casualfriday2.jpg
END:VEVENT
BEGIN:VEVENT
DTSTART;TZID=America/Los_Angeles:20240517T180000
DTEND;TZID=America/Los_Angeles:20240517T203000
DTSTAMP:20260425T052245
CREATED:20230924T225816Z
LAST-MODIFIED:20240708T081123Z
UID:10000365-1715968800-1715977800@siliconvalleyyouthbridge.org
SUMMARY:Casual Friday
DESCRIPTION:Join us every Friday for pizza\, snacks\, and some casual bridge! \n\n\n\nInformation and Signup \n\n\n\nPalo Alto Bridge Center link
URL:https://siliconvalleyyouthbridge.org/event/casual-friday/2024-05-17/
CATEGORIES:Casual Friday
ATTACH;FMTTYPE=image/jpeg:https://siliconvalleyyouthbridge.org/wp-content/uploads/Pages/casualfriday2.jpg
END:VEVENT
BEGIN:VEVENT
DTSTART;TZID=America/Los_Angeles:20240510T180000
DTEND;TZID=America/Los_Angeles:20240510T203000
DTSTAMP:20260425T052245
CREATED:20230924T225816Z
LAST-MODIFIED:20240708T081123Z
UID:10000364-1715364000-1715373000@siliconvalleyyouthbridge.org
SUMMARY:Casual Friday
DESCRIPTION:Join us every Friday for pizza\, snacks\, and some casual bridge! \n\n\n\nInformation and Signup \n\n\n\nPalo Alto Bridge Center link
URL:https://siliconvalleyyouthbridge.org/event/casual-friday/2024-05-10/
CATEGORIES:Casual Friday
ATTACH;FMTTYPE=image/jpeg:https://siliconvalleyyouthbridge.org/wp-content/uploads/Pages/casualfriday2.jpg
END:VEVENT
BEGIN:VEVENT
DTSTART;TZID=America/Los_Angeles:20240503T180000
DTEND;TZID=America/Los_Angeles:20240503T203000
DTSTAMP:20260425T052245
CREATED:20230924T225816Z
LAST-MODIFIED:20240708T081123Z
UID:10000363-1714759200-1714768200@siliconvalleyyouthbridge.org
SUMMARY:Casual Friday
DESCRIPTION:Join us every Friday for pizza\, snacks\, and some casual bridge! \n\n\n\nInformation and Signup \n\n\n\nPalo Alto Bridge Center link
URL:https://siliconvalleyyouthbridge.org/event/casual-friday/2024-05-03/
CATEGORIES:Casual Friday
ATTACH;FMTTYPE=image/jpeg:https://siliconvalleyyouthbridge.org/wp-content/uploads/Pages/casualfriday2.jpg
END:VEVENT
BEGIN:VEVENT
DTSTART;TZID=America/Los_Angeles:20240426T190000
DTEND;TZID=America/Los_Angeles:20240426T210000
DTSTAMP:20260425T052245
CREATED:20240424T035658Z
LAST-MODIFIED:20240424T035741Z
UID:10000362-1714158000-1714165200@siliconvalleyyouthbridge.org
SUMMARY:Casual Friday
DESCRIPTION:Kids (ages 8-18) & Young Adults (ages 18-30) from 7-9pm \n\n\n\n \n\n\n\nInformation and Signup \n\n\n\nPalo Alto Bridge Center link
URL:https://siliconvalleyyouthbridge.org/event/casual-friday-4/
CATEGORIES:Casual Friday
ATTACH;FMTTYPE=image/jpeg:https://siliconvalleyyouthbridge.org/wp-content/uploads/Pages/casualfriday2.jpg
END:VEVENT
BEGIN:VEVENT
DTSTART;TZID=America/Los_Angeles:20240426T180000
DTEND;TZID=America/Los_Angeles:20240426T203000
DTSTAMP:20260425T052245
CREATED:20230924T225816Z
LAST-MODIFIED:20240708T081123Z
UID:10000403-1714154400-1714163400@siliconvalleyyouthbridge.org
SUMMARY:Casual Friday
DESCRIPTION:Join us every Friday for pizza\, snacks\, and some casual bridge! \n\n\n\nInformation and Signup \n\n\n\nPalo Alto Bridge Center link
URL:https://siliconvalleyyouthbridge.org/event/casual-friday/2024-04-26/
CATEGORIES:Casual Friday
ATTACH;FMTTYPE=image/jpeg:https://siliconvalleyyouthbridge.org/wp-content/uploads/Pages/casualfriday2.jpg
END:VEVENT
BEGIN:VEVENT
DTSTART;TZID=America/Los_Angeles:20240419T180000
DTEND;TZID=America/Los_Angeles:20240419T203000
DTSTAMP:20260425T052245
CREATED:20230924T225816Z
LAST-MODIFIED:20240708T081123Z
UID:10000361-1713549600-1713558600@siliconvalleyyouthbridge.org
SUMMARY:Casual Friday
DESCRIPTION:Join us every Friday for pizza\, snacks\, and some casual bridge! \n\n\n\nInformation and Signup \n\n\n\nPalo Alto Bridge Center link
URL:https://siliconvalleyyouthbridge.org/event/casual-friday/2024-04-19/
CATEGORIES:Casual Friday
ATTACH;FMTTYPE=image/jpeg:https://siliconvalleyyouthbridge.org/wp-content/uploads/Pages/casualfriday2.jpg
END:VEVENT
BEGIN:VEVENT
DTSTART;TZID=America/Los_Angeles:20240412T180000
DTEND;TZID=America/Los_Angeles:20240412T203000
DTSTAMP:20260425T052245
CREATED:20230924T225816Z
LAST-MODIFIED:20240708T081123Z
UID:10000360-1712944800-1712953800@siliconvalleyyouthbridge.org
SUMMARY:Casual Friday
DESCRIPTION:Join us every Friday for pizza\, snacks\, and some casual bridge! \n\n\n\nInformation and Signup \n\n\n\nPalo Alto Bridge Center link
URL:https://siliconvalleyyouthbridge.org/event/casual-friday/2024-04-12/
CATEGORIES:Casual Friday
ATTACH;FMTTYPE=image/jpeg:https://siliconvalleyyouthbridge.org/wp-content/uploads/Pages/casualfriday2.jpg
END:VEVENT
BEGIN:VEVENT
DTSTART;TZID=America/Los_Angeles:20240405T180000
DTEND;TZID=America/Los_Angeles:20240405T203000
DTSTAMP:20260425T052245
CREATED:20230924T225816Z
LAST-MODIFIED:20240708T081123Z
UID:10000359-1712340000-1712349000@siliconvalleyyouthbridge.org
SUMMARY:Casual Friday
DESCRIPTION:Join us every Friday for pizza\, snacks\, and some casual bridge! \n\n\n\nInformation and Signup \n\n\n\nPalo Alto Bridge Center link
URL:https://siliconvalleyyouthbridge.org/event/casual-friday/2024-04-05/
CATEGORIES:Casual Friday
ATTACH;FMTTYPE=image/jpeg:https://siliconvalleyyouthbridge.org/wp-content/uploads/Pages/casualfriday2.jpg
END:VEVENT
BEGIN:VEVENT
DTSTART;TZID=America/Los_Angeles:20240331T110000
DTEND;TZID=America/Los_Angeles:20240331T150000
DTSTAMP:20260425T052245
CREATED:20240121T052012Z
LAST-MODIFIED:20250329T000453Z
UID:10000399-1711882800-1711897200@siliconvalleyyouthbridge.org
SUMMARY:Pizza Party Tournament
DESCRIPTION:Duplicate Game with Beginner and Open Sections\, with pizza\, prizes\, & ACBL Masterpoints \n\n\n\nRead more about our Pizza Party Tournaments
URL:https://siliconvalleyyouthbridge.org/event/pizza-party-tournaments-2/
CATEGORIES:Pizza Party
END:VEVENT
BEGIN:VEVENT
DTSTART;TZID=America/Los_Angeles:20240329T180000
DTEND;TZID=America/Los_Angeles:20240329T203000
DTSTAMP:20260425T052245
CREATED:20230924T225816Z
LAST-MODIFIED:20240708T081123Z
UID:10000358-1711735200-1711744200@siliconvalleyyouthbridge.org
SUMMARY:Casual Friday
DESCRIPTION:Join us every Friday for pizza\, snacks\, and some casual bridge! \n\n\n\nInformation and Signup \n\n\n\nPalo Alto Bridge Center link
URL:https://siliconvalleyyouthbridge.org/event/casual-friday/2024-03-29/
CATEGORIES:Casual Friday
ATTACH;FMTTYPE=image/jpeg:https://siliconvalleyyouthbridge.org/wp-content/uploads/Pages/casualfriday2.jpg
END:VEVENT
BEGIN:VEVENT
DTSTART;TZID=America/Los_Angeles:20240308T180000
DTEND;TZID=America/Los_Angeles:20240308T203000
DTSTAMP:20260425T052245
CREATED:20230924T225816Z
LAST-MODIFIED:20240708T081123Z
UID:10000357-1709920800-1709929800@siliconvalleyyouthbridge.org
SUMMARY:Casual Friday
DESCRIPTION:Join us every Friday for pizza\, snacks\, and some casual bridge! \n\n\n\nInformation and Signup \n\n\n\nPalo Alto Bridge Center link
URL:https://siliconvalleyyouthbridge.org/event/casual-friday/2024-03-08/
CATEGORIES:Casual Friday
ATTACH;FMTTYPE=image/jpeg:https://siliconvalleyyouthbridge.org/wp-content/uploads/Pages/casualfriday2.jpg
END:VEVENT
BEGIN:VEVENT
DTSTART;TZID=America/Los_Angeles:20240301T180000
DTEND;TZID=America/Los_Angeles:20240301T203000
DTSTAMP:20260425T052245
CREATED:20230924T225816Z
LAST-MODIFIED:20240708T081123Z
UID:10000356-1709316000-1709325000@siliconvalleyyouthbridge.org
SUMMARY:Casual Friday
DESCRIPTION:Join us every Friday for pizza\, snacks\, and some casual bridge! \n\n\n\nInformation and Signup \n\n\n\nPalo Alto Bridge Center link
URL:https://siliconvalleyyouthbridge.org/event/casual-friday/2024-03-01/
CATEGORIES:Casual Friday
ATTACH;FMTTYPE=image/jpeg:https://siliconvalleyyouthbridge.org/wp-content/uploads/Pages/casualfriday2.jpg
END:VEVENT
END:VCALENDAR