BEGIN:VCALENDAR
VERSION:2.0
PRODID:-//Silicon Valley Youth Bridge - ECPv6.15.20//NONSGML v1.0//EN
CALSCALE:GREGORIAN
METHOD:PUBLISH
X-ORIGINAL-URL:https://siliconvalleyyouthbridge.org
X-WR-CALDESC:Events for Silicon Valley Youth Bridge
REFRESH-INTERVAL;VALUE=DURATION:PT1H
X-Robots-Tag:noindex
X-PUBLISHED-TTL:PT1H
BEGIN:VTIMEZONE
TZID:America/Los_Angeles
BEGIN:DAYLIGHT
TZOFFSETFROM:-0800
TZOFFSETTO:-0700
TZNAME:PDT
DTSTART:20190310T100000
END:DAYLIGHT
BEGIN:STANDARD
TZOFFSETFROM:-0700
TZOFFSETTO:-0800
TZNAME:PST
DTSTART:20191103T090000
END:STANDARD
BEGIN:DAYLIGHT
TZOFFSETFROM:-0800
TZOFFSETTO:-0700
TZNAME:PDT
DTSTART:20200308T100000
END:DAYLIGHT
BEGIN:STANDARD
TZOFFSETFROM:-0700
TZOFFSETTO:-0800
TZNAME:PST
DTSTART:20201101T090000
END:STANDARD
BEGIN:DAYLIGHT
TZOFFSETFROM:-0800
TZOFFSETTO:-0700
TZNAME:PDT
DTSTART:20210314T100000
END:DAYLIGHT
BEGIN:STANDARD
TZOFFSETFROM:-0700
TZOFFSETTO:-0800
TZNAME:PST
DTSTART:20211107T090000
END:STANDARD
END:VTIMEZONE
BEGIN:VEVENT
DTSTART;TZID=America/Los_Angeles:20201106T160000
DTEND;TZID=America/Los_Angeles:20201106T180000
DTSTAMP:20260425T210921
CREATED:20201010T023808Z
LAST-MODIFIED:20211027T005055Z
UID:10000049-1604678400-1604685600@siliconvalleyyouthbridge.org
SUMMARY:Casual Friday Online
DESCRIPTION:Held on BridgeBase and Discord. \n\n\n\nPlay with other Youth Players who have similar bridge experienceMentors will be hosting your table to answer questionsPlay with your favorite partner or meet someone new \n\n\n\nInfo and Signup
URL:https://siliconvalleyyouthbridge.org/event/casual-friday-online-3/2020-11-06/
CATEGORIES:Casual Friday
ATTACH;FMTTYPE=image/jpeg:https://siliconvalleyyouthbridge.org/wp-content/uploads/2020/11/20150522_195209@0.5x.jpg
END:VEVENT
BEGIN:VEVENT
DTSTART;TZID=America/Los_Angeles:20201023T160000
DTEND;TZID=America/Los_Angeles:20201023T180000
DTSTAMP:20260425T210921
CREATED:20201010T023808Z
LAST-MODIFIED:20211027T005055Z
UID:10000048-1603468800-1603476000@siliconvalleyyouthbridge.org
SUMMARY:Casual Friday Online
DESCRIPTION:Held on BridgeBase and Discord. \n\n\n\nPlay with other Youth Players who have similar bridge experienceMentors will be hosting your table to answer questionsPlay with your favorite partner or meet someone new \n\n\n\nInfo and Signup
URL:https://siliconvalleyyouthbridge.org/event/casual-friday-online-3/2020-10-23/
CATEGORIES:Casual Friday
ATTACH;FMTTYPE=image/jpeg:https://siliconvalleyyouthbridge.org/wp-content/uploads/2020/11/20150522_195209@0.5x.jpg
END:VEVENT
BEGIN:VEVENT
DTSTART;TZID=America/Los_Angeles:20201009T151500
DTEND;TZID=America/Los_Angeles:20201009T171500
DTSTAMP:20260425T210921
CREATED:20201005T144820Z
LAST-MODIFIED:20210620T200131Z
UID:10000044-1602256500-1602263700@siliconvalleyyouthbridge.org
SUMMARY:Virtual Pizza Party
DESCRIPTION:Held on BridgeBase and Discord \n\n\n\nDuplicate Tournament with two sections\, one for more experienced and one for less experienced players.Winners get a $10 gift card!Participants must have at least a little bit of prior bridge experience and have a BBO membership (free). View BBO tutorial videoSignup required\n\n\n\nInfo and Signup
URL:https://siliconvalleyyouthbridge.org/event/virtual-pizza-party/2020-10-09/
CATEGORIES:Pizza Party
ATTACH;FMTTYPE=image/jpeg:https://siliconvalleyyouthbridge.org/wp-content/uploads/2020/11/virtualpizzaaldwyn-scaled.jpg
END:VEVENT
END:VCALENDAR