BEGIN:VCALENDAR
VERSION:2.0
PRODID:-//Silicon Valley Youth Bridge - ECPv6.15.20//NONSGML v1.0//EN
CALSCALE:GREGORIAN
METHOD:PUBLISH
X-WR-CALNAME:Silicon Valley Youth Bridge
X-ORIGINAL-URL:https://siliconvalleyyouthbridge.org
X-WR-CALDESC:Events for Silicon Valley Youth Bridge
REFRESH-INTERVAL;VALUE=DURATION:PT1H
X-Robots-Tag:noindex
X-PUBLISHED-TTL:PT1H
BEGIN:VTIMEZONE
TZID:America/Los_Angeles
BEGIN:DAYLIGHT
TZOFFSETFROM:-0800
TZOFFSETTO:-0700
TZNAME:PDT
DTSTART:20230312T100000
END:DAYLIGHT
BEGIN:STANDARD
TZOFFSETFROM:-0700
TZOFFSETTO:-0800
TZNAME:PST
DTSTART:20231105T090000
END:STANDARD
BEGIN:DAYLIGHT
TZOFFSETFROM:-0800
TZOFFSETTO:-0700
TZNAME:PDT
DTSTART:20240310T100000
END:DAYLIGHT
BEGIN:STANDARD
TZOFFSETFROM:-0700
TZOFFSETTO:-0800
TZNAME:PST
DTSTART:20241103T090000
END:STANDARD
BEGIN:DAYLIGHT
TZOFFSETFROM:-0800
TZOFFSETTO:-0700
TZNAME:PDT
DTSTART:20250309T100000
END:DAYLIGHT
BEGIN:STANDARD
TZOFFSETFROM:-0700
TZOFFSETTO:-0800
TZNAME:PST
DTSTART:20251102T090000
END:STANDARD
BEGIN:DAYLIGHT
TZOFFSETFROM:-0800
TZOFFSETTO:-0700
TZNAME:PDT
DTSTART:20260308T100000
END:DAYLIGHT
BEGIN:STANDARD
TZOFFSETFROM:-0700
TZOFFSETTO:-0800
TZNAME:PST
DTSTART:20261101T090000
END:STANDARD
END:VTIMEZONE
BEGIN:VEVENT
DTSTART;TZID=America/Los_Angeles:20250404T180000
DTEND;TZID=America/Los_Angeles:20250404T203000
DTSTAMP:20260424T081220
CREATED:20250104T222532Z
LAST-MODIFIED:20250104T222534Z
UID:10000470-1743789600-1743798600@siliconvalleyyouthbridge.org
SUMMARY:Casual Friday
DESCRIPTION:Join us every Friday for pizza\, snacks\, and some casual bridge! \n\n\n\nInformation and Signup \n\n\n\nPalo Alto Bridge Center link
URL:https://siliconvalleyyouthbridge.org/event/casual-friday-8/2025-04-04/
CATEGORIES:Casual Friday
ATTACH;FMTTYPE=image/jpeg:https://siliconvalleyyouthbridge.org/wp-content/uploads/Pages/casualfriday2.jpg
END:VEVENT
BEGIN:VEVENT
DTSTART;TZID=America/Los_Angeles:20250328T180000
DTEND;TZID=America/Los_Angeles:20250328T203000
DTSTAMP:20260424T081220
CREATED:20250328T235020Z
LAST-MODIFIED:20250328T235709Z
UID:10000469-1743184800-1743193800@siliconvalleyyouthbridge.org
SUMMARY:Casual Friday
DESCRIPTION:Join us every Friday for pizza\, snacks\, and some casual bridge! \n\n\n\nInformation and Signup \n\n\n\nPalo Alto Bridge Center link
URL:https://siliconvalleyyouthbridge.org/event/casual-friday-9/
CATEGORIES:Casual Friday
ATTACH;FMTTYPE=image/jpeg:https://siliconvalleyyouthbridge.org/wp-content/uploads/Pages/casualfriday2.jpg
END:VEVENT
BEGIN:VEVENT
DTSTART;TZID=America/Los_Angeles:20250321T180000
DTEND;TZID=America/Los_Angeles:20250321T203000
DTSTAMP:20260424T081220
CREATED:20250104T222532Z
LAST-MODIFIED:20250104T222534Z
UID:10000468-1742580000-1742589000@siliconvalleyyouthbridge.org
SUMMARY:Casual Friday
DESCRIPTION:Join us every Friday for pizza\, snacks\, and some casual bridge! \n\n\n\nInformation and Signup \n\n\n\nPalo Alto Bridge Center link
URL:https://siliconvalleyyouthbridge.org/event/casual-friday-8/2025-03-21/
CATEGORIES:Casual Friday
ATTACH;FMTTYPE=image/jpeg:https://siliconvalleyyouthbridge.org/wp-content/uploads/Pages/casualfriday2.jpg
END:VEVENT
BEGIN:VEVENT
DTSTART;TZID=America/Los_Angeles:20250314T180000
DTEND;TZID=America/Los_Angeles:20250314T203000
DTSTAMP:20260424T081220
CREATED:20250104T222532Z
LAST-MODIFIED:20250104T222534Z
UID:10000467-1741975200-1741984200@siliconvalleyyouthbridge.org
SUMMARY:Casual Friday
DESCRIPTION:Join us every Friday for pizza\, snacks\, and some casual bridge! \n\n\n\nInformation and Signup \n\n\n\nPalo Alto Bridge Center link
URL:https://siliconvalleyyouthbridge.org/event/casual-friday-8/2025-03-14/
CATEGORIES:Casual Friday
ATTACH;FMTTYPE=image/jpeg:https://siliconvalleyyouthbridge.org/wp-content/uploads/Pages/casualfriday2.jpg
END:VEVENT
BEGIN:VEVENT
DTSTART;TZID=America/Los_Angeles:20250307T180000
DTEND;TZID=America/Los_Angeles:20250307T203000
DTSTAMP:20260424T081220
CREATED:20250104T222532Z
LAST-MODIFIED:20250104T222534Z
UID:10000466-1741370400-1741379400@siliconvalleyyouthbridge.org
SUMMARY:Casual Friday
DESCRIPTION:Join us every Friday for pizza\, snacks\, and some casual bridge! \n\n\n\nInformation and Signup \n\n\n\nPalo Alto Bridge Center link
URL:https://siliconvalleyyouthbridge.org/event/casual-friday-8/2025-03-07/
CATEGORIES:Casual Friday
ATTACH;FMTTYPE=image/jpeg:https://siliconvalleyyouthbridge.org/wp-content/uploads/Pages/casualfriday2.jpg
END:VEVENT
BEGIN:VEVENT
DTSTART;TZID=America/Los_Angeles:20250228T180000
DTEND;TZID=America/Los_Angeles:20250228T203000
DTSTAMP:20260424T081220
CREATED:20250104T222532Z
LAST-MODIFIED:20250104T222534Z
UID:10000465-1740765600-1740774600@siliconvalleyyouthbridge.org
SUMMARY:Casual Friday
DESCRIPTION:Join us every Friday for pizza\, snacks\, and some casual bridge! \n\n\n\nInformation and Signup \n\n\n\nPalo Alto Bridge Center link
URL:https://siliconvalleyyouthbridge.org/event/casual-friday-8/2025-02-28/
CATEGORIES:Casual Friday
ATTACH;FMTTYPE=image/jpeg:https://siliconvalleyyouthbridge.org/wp-content/uploads/Pages/casualfriday2.jpg
END:VEVENT
BEGIN:VEVENT
DTSTART;TZID=America/Los_Angeles:20250221T180000
DTEND;TZID=America/Los_Angeles:20250221T203000
DTSTAMP:20260424T081220
CREATED:20250104T222532Z
LAST-MODIFIED:20250104T222534Z
UID:10000464-1740160800-1740169800@siliconvalleyyouthbridge.org
SUMMARY:Casual Friday
DESCRIPTION:Join us every Friday for pizza\, snacks\, and some casual bridge! \n\n\n\nInformation and Signup \n\n\n\nPalo Alto Bridge Center link
URL:https://siliconvalleyyouthbridge.org/event/casual-friday-8/2025-02-21/
CATEGORIES:Casual Friday
ATTACH;FMTTYPE=image/jpeg:https://siliconvalleyyouthbridge.org/wp-content/uploads/Pages/casualfriday2.jpg
END:VEVENT
BEGIN:VEVENT
DTSTART;TZID=America/Los_Angeles:20250214T180000
DTEND;TZID=America/Los_Angeles:20250214T203000
DTSTAMP:20260424T081220
CREATED:20250104T222532Z
LAST-MODIFIED:20250104T222534Z
UID:10000463-1739556000-1739565000@siliconvalleyyouthbridge.org
SUMMARY:Casual Friday
DESCRIPTION:Join us every Friday for pizza\, snacks\, and some casual bridge! \n\n\n\nInformation and Signup \n\n\n\nPalo Alto Bridge Center link
URL:https://siliconvalleyyouthbridge.org/event/casual-friday-8/2025-02-14/
CATEGORIES:Casual Friday
ATTACH;FMTTYPE=image/jpeg:https://siliconvalleyyouthbridge.org/wp-content/uploads/Pages/casualfriday2.jpg
END:VEVENT
BEGIN:VEVENT
DTSTART;TZID=America/Los_Angeles:20250207T180000
DTEND;TZID=America/Los_Angeles:20250207T203000
DTSTAMP:20260424T081220
CREATED:20250104T222532Z
LAST-MODIFIED:20250104T222534Z
UID:10000462-1738951200-1738960200@siliconvalleyyouthbridge.org
SUMMARY:Casual Friday
DESCRIPTION:Join us every Friday for pizza\, snacks\, and some casual bridge! \n\n\n\nInformation and Signup \n\n\n\nPalo Alto Bridge Center link
URL:https://siliconvalleyyouthbridge.org/event/casual-friday-8/2025-02-07/
CATEGORIES:Casual Friday
ATTACH;FMTTYPE=image/jpeg:https://siliconvalleyyouthbridge.org/wp-content/uploads/Pages/casualfriday2.jpg
END:VEVENT
BEGIN:VEVENT
DTSTART;TZID=America/Los_Angeles:20250131T180000
DTEND;TZID=America/Los_Angeles:20250131T203000
DTSTAMP:20260424T081220
CREATED:20250104T222532Z
LAST-MODIFIED:20250104T222534Z
UID:10000461-1738346400-1738355400@siliconvalleyyouthbridge.org
SUMMARY:Casual Friday
DESCRIPTION:Join us every Friday for pizza\, snacks\, and some casual bridge! \n\n\n\nInformation and Signup \n\n\n\nPalo Alto Bridge Center link
URL:https://siliconvalleyyouthbridge.org/event/casual-friday-8/2025-01-31/
CATEGORIES:Casual Friday
ATTACH;FMTTYPE=image/jpeg:https://siliconvalleyyouthbridge.org/wp-content/uploads/Pages/casualfriday2.jpg
END:VEVENT
BEGIN:VEVENT
DTSTART;TZID=America/Los_Angeles:20250124T180000
DTEND;TZID=America/Los_Angeles:20250124T203000
DTSTAMP:20260424T081220
CREATED:20250104T222532Z
LAST-MODIFIED:20250104T222534Z
UID:10000460-1737741600-1737750600@siliconvalleyyouthbridge.org
SUMMARY:Casual Friday
DESCRIPTION:Join us every Friday for pizza\, snacks\, and some casual bridge! \n\n\n\nInformation and Signup \n\n\n\nPalo Alto Bridge Center link
URL:https://siliconvalleyyouthbridge.org/event/casual-friday-8/2025-01-24/
CATEGORIES:Casual Friday
ATTACH;FMTTYPE=image/jpeg:https://siliconvalleyyouthbridge.org/wp-content/uploads/Pages/casualfriday2.jpg
END:VEVENT
BEGIN:VEVENT
DTSTART;TZID=America/Los_Angeles:20250117T180000
DTEND;TZID=America/Los_Angeles:20250117T203000
DTSTAMP:20260424T081220
CREATED:20250104T222532Z
LAST-MODIFIED:20250104T222534Z
UID:10000459-1737136800-1737145800@siliconvalleyyouthbridge.org
SUMMARY:Casual Friday
DESCRIPTION:Join us every Friday for pizza\, snacks\, and some casual bridge! \n\n\n\nInformation and Signup \n\n\n\nPalo Alto Bridge Center link
URL:https://siliconvalleyyouthbridge.org/event/casual-friday-8/2025-01-17/
CATEGORIES:Casual Friday
ATTACH;FMTTYPE=image/jpeg:https://siliconvalleyyouthbridge.org/wp-content/uploads/Pages/casualfriday2.jpg
END:VEVENT
BEGIN:VEVENT
DTSTART;TZID=America/Los_Angeles:20250103T180000
DTEND;TZID=America/Los_Angeles:20250103T203000
DTSTAMP:20260424T081220
CREATED:20250104T222532Z
LAST-MODIFIED:20250104T222534Z
UID:10000458-1735927200-1735936200@siliconvalleyyouthbridge.org
SUMMARY:Casual Friday
DESCRIPTION:Join us every Friday for pizza\, snacks\, and some casual bridge! \n\n\n\nInformation and Signup \n\n\n\nPalo Alto Bridge Center link
URL:https://siliconvalleyyouthbridge.org/event/casual-friday-8/2025-01-03/
CATEGORIES:Casual Friday
ATTACH;FMTTYPE=image/jpeg:https://siliconvalleyyouthbridge.org/wp-content/uploads/Pages/casualfriday2.jpg
END:VEVENT
BEGIN:VEVENT
DTSTART;TZID=America/Los_Angeles:20241220T180000
DTEND;TZID=America/Los_Angeles:20241220T203000
DTSTAMP:20260424T081220
CREATED:20230924T225816Z
LAST-MODIFIED:20240708T081123Z
UID:10000390-1734717600-1734726600@siliconvalleyyouthbridge.org
SUMMARY:Casual Friday
DESCRIPTION:Join us every Friday for pizza\, snacks\, and some casual bridge! \n\n\n\nInformation and Signup \n\n\n\nPalo Alto Bridge Center link
URL:https://siliconvalleyyouthbridge.org/event/casual-friday/2024-12-20/
CATEGORIES:Casual Friday
ATTACH;FMTTYPE=image/jpeg:https://siliconvalleyyouthbridge.org/wp-content/uploads/Pages/casualfriday2.jpg
END:VEVENT
BEGIN:VEVENT
DTSTART;TZID=America/Los_Angeles:20241214T120000
DTEND;TZID=America/Los_Angeles:20241214T150000
DTSTAMP:20260424T081220
CREATED:20240908T192127Z
LAST-MODIFIED:20241210T203020Z
UID:10000407-1734177600-1734188400@siliconvalleyyouthbridge.org
SUMMARY:Winter Pizza Party Tournament
DESCRIPTION:We will host an individual game for all young players and a training special training session for players going to the 2024 Sam Amer Junior US Bridge Championships in late December \n\n\n\nPlease sign-up here: https://siliconvalleyyouthbridge.org/pizza-party/
URL:https://siliconvalleyyouthbridge.org/event/winter-pizza-party-tournament/
CATEGORIES:Pizza Party
END:VEVENT
BEGIN:VEVENT
DTSTART;TZID=America/Los_Angeles:20241213T180000
DTEND;TZID=America/Los_Angeles:20241213T203000
DTSTAMP:20260424T081220
CREATED:20230924T225816Z
LAST-MODIFIED:20240708T081123Z
UID:10000389-1734112800-1734121800@siliconvalleyyouthbridge.org
SUMMARY:Casual Friday
DESCRIPTION:Join us every Friday for pizza\, snacks\, and some casual bridge! \n\n\n\nInformation and Signup \n\n\n\nPalo Alto Bridge Center link
URL:https://siliconvalleyyouthbridge.org/event/casual-friday/2024-12-13/
CATEGORIES:Casual Friday
ATTACH;FMTTYPE=image/jpeg:https://siliconvalleyyouthbridge.org/wp-content/uploads/Pages/casualfriday2.jpg
END:VEVENT
BEGIN:VEVENT
DTSTART;TZID=America/Los_Angeles:20241122T180000
DTEND;TZID=America/Los_Angeles:20241122T203000
DTSTAMP:20260424T081220
CREATED:20230924T225816Z
LAST-MODIFIED:20240708T081123Z
UID:10000388-1732298400-1732307400@siliconvalleyyouthbridge.org
SUMMARY:Casual Friday
DESCRIPTION:Join us every Friday for pizza\, snacks\, and some casual bridge! \n\n\n\nInformation and Signup \n\n\n\nPalo Alto Bridge Center link
URL:https://siliconvalleyyouthbridge.org/event/casual-friday/2024-11-22/
CATEGORIES:Casual Friday
ATTACH;FMTTYPE=image/jpeg:https://siliconvalleyyouthbridge.org/wp-content/uploads/Pages/casualfriday2.jpg
END:VEVENT
BEGIN:VEVENT
DTSTART;TZID=America/Los_Angeles:20241115T180000
DTEND;TZID=America/Los_Angeles:20241115T203000
DTSTAMP:20260424T081220
CREATED:20230924T225816Z
LAST-MODIFIED:20240708T081123Z
UID:10000387-1731693600-1731702600@siliconvalleyyouthbridge.org
SUMMARY:Casual Friday
DESCRIPTION:Join us every Friday for pizza\, snacks\, and some casual bridge! \n\n\n\nInformation and Signup \n\n\n\nPalo Alto Bridge Center link
URL:https://siliconvalleyyouthbridge.org/event/casual-friday/2024-11-15/
CATEGORIES:Casual Friday
ATTACH;FMTTYPE=image/jpeg:https://siliconvalleyyouthbridge.org/wp-content/uploads/Pages/casualfriday2.jpg
END:VEVENT
BEGIN:VEVENT
DTSTART;TZID=America/Los_Angeles:20241108T180000
DTEND;TZID=America/Los_Angeles:20241108T203000
DTSTAMP:20260424T081220
CREATED:20230924T225816Z
LAST-MODIFIED:20240708T081123Z
UID:10000386-1731088800-1731097800@siliconvalleyyouthbridge.org
SUMMARY:Casual Friday
DESCRIPTION:Join us every Friday for pizza\, snacks\, and some casual bridge! \n\n\n\nInformation and Signup \n\n\n\nPalo Alto Bridge Center link
URL:https://siliconvalleyyouthbridge.org/event/casual-friday/2024-11-08/
CATEGORIES:Casual Friday
ATTACH;FMTTYPE=image/jpeg:https://siliconvalleyyouthbridge.org/wp-content/uploads/Pages/casualfriday2.jpg
END:VEVENT
BEGIN:VEVENT
DTSTART;TZID=America/Los_Angeles:20241101T180000
DTEND;TZID=America/Los_Angeles:20241101T203000
DTSTAMP:20260424T081220
CREATED:20241024T003146Z
LAST-MODIFIED:20241024T003225Z
UID:10000385-1730484000-1730493000@siliconvalleyyouthbridge.org
SUMMARY:Casual Friday
DESCRIPTION:Join us every Friday for pizza\, snacks\, and some casual bridge! \n\n\n\nInformation and Signup \n\n\n\nPalo Alto Bridge Center link
URL:https://siliconvalleyyouthbridge.org/event/casual-friday-7/
CATEGORIES:Casual Friday
ATTACH;FMTTYPE=image/jpeg:https://siliconvalleyyouthbridge.org/wp-content/uploads/Pages/casualfriday2.jpg
END:VEVENT
BEGIN:VEVENT
DTSTART;TZID=America/Los_Angeles:20241025T180000
DTEND;TZID=America/Los_Angeles:20241025T203000
DTSTAMP:20260424T081220
CREATED:20241024T002748Z
LAST-MODIFIED:20241024T003008Z
UID:10000384-1729879200-1729888200@siliconvalleyyouthbridge.org
SUMMARY:Casual Friday
DESCRIPTION:Join us every Friday for pizza\, snacks\, and some casual bridge! \n\n\n\nInformation and Signup \n\n\n\nPalo Alto Bridge Center link
URL:https://siliconvalleyyouthbridge.org/event/casual-friday-6/
CATEGORIES:Casual Friday
ATTACH;FMTTYPE=image/jpeg:https://siliconvalleyyouthbridge.org/wp-content/uploads/Pages/casualfriday2.jpg
END:VEVENT
BEGIN:VEVENT
DTSTART;TZID=America/Los_Angeles:20241018T180000
DTEND;TZID=America/Los_Angeles:20241018T203000
DTSTAMP:20260424T081220
CREATED:20230924T225816Z
LAST-MODIFIED:20240708T081123Z
UID:10000383-1729274400-1729283400@siliconvalleyyouthbridge.org
SUMMARY:Casual Friday
DESCRIPTION:Join us every Friday for pizza\, snacks\, and some casual bridge! \n\n\n\nInformation and Signup \n\n\n\nPalo Alto Bridge Center link
URL:https://siliconvalleyyouthbridge.org/event/casual-friday/2024-10-18/
CATEGORIES:Casual Friday
ATTACH;FMTTYPE=image/jpeg:https://siliconvalleyyouthbridge.org/wp-content/uploads/Pages/casualfriday2.jpg
END:VEVENT
BEGIN:VEVENT
DTSTART;TZID=America/Los_Angeles:20241013T110000
DTEND;TZID=America/Los_Angeles:20241013T150000
DTSTAMP:20260424T081220
CREATED:20240908T191929Z
LAST-MODIFIED:20240908T192240Z
UID:10000406-1728817200-1728831600@siliconvalleyyouthbridge.org
SUMMARY:Halloween Pizza Party Tournament
DESCRIPTION:Sign-up here: https://siliconvalleyyouthbridge.org/pizza-party/
URL:https://siliconvalleyyouthbridge.org/event/halloween-pizza-party-tournament/
CATEGORIES:Pizza Party
END:VEVENT
BEGIN:VEVENT
DTSTART;TZID=America/Los_Angeles:20241011T180000
DTEND;TZID=America/Los_Angeles:20241011T203000
DTSTAMP:20260424T081220
CREATED:20230924T225816Z
LAST-MODIFIED:20240708T081123Z
UID:10000382-1728669600-1728678600@siliconvalleyyouthbridge.org
SUMMARY:Casual Friday
DESCRIPTION:Join us every Friday for pizza\, snacks\, and some casual bridge! \n\n\n\nInformation and Signup \n\n\n\nPalo Alto Bridge Center link
URL:https://siliconvalleyyouthbridge.org/event/casual-friday/2024-10-11/
CATEGORIES:Casual Friday
ATTACH;FMTTYPE=image/jpeg:https://siliconvalleyyouthbridge.org/wp-content/uploads/Pages/casualfriday2.jpg
END:VEVENT
BEGIN:VEVENT
DTSTART;TZID=America/Los_Angeles:20241004T180000
DTEND;TZID=America/Los_Angeles:20241004T203000
DTSTAMP:20260424T081220
CREATED:20230924T225816Z
LAST-MODIFIED:20240708T081123Z
UID:10000381-1728064800-1728073800@siliconvalleyyouthbridge.org
SUMMARY:Casual Friday
DESCRIPTION:Join us every Friday for pizza\, snacks\, and some casual bridge! \n\n\n\nInformation and Signup \n\n\n\nPalo Alto Bridge Center link
URL:https://siliconvalleyyouthbridge.org/event/casual-friday/2024-10-04/
CATEGORIES:Casual Friday
ATTACH;FMTTYPE=image/jpeg:https://siliconvalleyyouthbridge.org/wp-content/uploads/Pages/casualfriday2.jpg
END:VEVENT
BEGIN:VEVENT
DTSTART;TZID=America/Los_Angeles:20240927T180000
DTEND;TZID=America/Los_Angeles:20240927T203000
DTSTAMP:20260424T081220
CREATED:20230924T225816Z
LAST-MODIFIED:20240708T081123Z
UID:10000380-1727460000-1727469000@siliconvalleyyouthbridge.org
SUMMARY:Casual Friday
DESCRIPTION:Join us every Friday for pizza\, snacks\, and some casual bridge! \n\n\n\nInformation and Signup \n\n\n\nPalo Alto Bridge Center link
URL:https://siliconvalleyyouthbridge.org/event/casual-friday/2024-09-27/
CATEGORIES:Casual Friday
ATTACH;FMTTYPE=image/jpeg:https://siliconvalleyyouthbridge.org/wp-content/uploads/Pages/casualfriday2.jpg
END:VEVENT
BEGIN:VEVENT
DTSTART;TZID=America/Los_Angeles:20240920T180000
DTEND;TZID=America/Los_Angeles:20240920T203000
DTSTAMP:20260424T081220
CREATED:20230924T225816Z
LAST-MODIFIED:20240708T081123Z
UID:10000379-1726855200-1726864200@siliconvalleyyouthbridge.org
SUMMARY:Casual Friday
DESCRIPTION:Join us every Friday for pizza\, snacks\, and some casual bridge! \n\n\n\nInformation and Signup \n\n\n\nPalo Alto Bridge Center link
URL:https://siliconvalleyyouthbridge.org/event/casual-friday/2024-09-20/
CATEGORIES:Casual Friday
ATTACH;FMTTYPE=image/jpeg:https://siliconvalleyyouthbridge.org/wp-content/uploads/Pages/casualfriday2.jpg
END:VEVENT
BEGIN:VEVENT
DTSTART;TZID=America/Los_Angeles:20240913T180000
DTEND;TZID=America/Los_Angeles:20240913T203000
DTSTAMP:20260424T081220
CREATED:20230924T225816Z
LAST-MODIFIED:20240708T081123Z
UID:10000378-1726250400-1726259400@siliconvalleyyouthbridge.org
SUMMARY:Casual Friday
DESCRIPTION:Join us every Friday for pizza\, snacks\, and some casual bridge! \n\n\n\nInformation and Signup \n\n\n\nPalo Alto Bridge Center link
URL:https://siliconvalleyyouthbridge.org/event/casual-friday/2024-09-13/
CATEGORIES:Casual Friday
ATTACH;FMTTYPE=image/jpeg:https://siliconvalleyyouthbridge.org/wp-content/uploads/Pages/casualfriday2.jpg
END:VEVENT
BEGIN:VEVENT
DTSTART;TZID=America/Los_Angeles:20240906T180000
DTEND;TZID=America/Los_Angeles:20240906T203000
DTSTAMP:20260424T081220
CREATED:20230924T225816Z
LAST-MODIFIED:20240708T081123Z
UID:10000377-1725645600-1725654600@siliconvalleyyouthbridge.org
SUMMARY:Casual Friday
DESCRIPTION:Join us every Friday for pizza\, snacks\, and some casual bridge! \n\n\n\nInformation and Signup \n\n\n\nPalo Alto Bridge Center link
URL:https://siliconvalleyyouthbridge.org/event/casual-friday/2024-09-06/
CATEGORIES:Casual Friday
ATTACH;FMTTYPE=image/jpeg:https://siliconvalleyyouthbridge.org/wp-content/uploads/Pages/casualfriday2.jpg
END:VEVENT
BEGIN:VEVENT
DTSTART;TZID=America/Los_Angeles:20240823T180000
DTEND;TZID=America/Los_Angeles:20240823T203000
DTSTAMP:20260424T081220
CREATED:20230924T225816Z
LAST-MODIFIED:20240708T081123Z
UID:10000376-1724436000-1724445000@siliconvalleyyouthbridge.org
SUMMARY:Casual Friday
DESCRIPTION:Join us every Friday for pizza\, snacks\, and some casual bridge! \n\n\n\nInformation and Signup \n\n\n\nPalo Alto Bridge Center link
URL:https://siliconvalleyyouthbridge.org/event/casual-friday/2024-08-23/
CATEGORIES:Casual Friday
ATTACH;FMTTYPE=image/jpeg:https://siliconvalleyyouthbridge.org/wp-content/uploads/Pages/casualfriday2.jpg
END:VEVENT
END:VCALENDAR